BEGIN:VCALENDAR
PRODID: University of Exeter
VERSION:2.0
BEGIN:VTIMEZONE
TZID:Europe/London
X-LIC-LOCATION:Europe/London
BEGIN:DAYLIGHT
TZOFFSETFROM:+0000
TZOFFSETTO:+0100
TZNAME:BST
DTSTART:20191204T160000
RRULE:FREQ=YEARLY;BYDAY=-1SU;BYMONTH=3
END:DAYLIGHT
BEGIN:STANDARD
TZOFFSETFROM:+0100
TZOFFSETTO:+0000
TZNAME:GMT
DTSTART:20191204T160000
RRULE:FREQ=YEARLY;BYDAY=-1SU;BYMONTH=10
END:STANDARD
END:VTIMEZONE
METHOD:PUBLISH
BEGIN:VEVENT
SUMMARY; CHARSET=UTF-8 :CANCELLED - Digital Humanities Seminar: For Everyone: the Participatory Archive
UID:exeter_event_9643
URL:http://www.exeter.ac.uk/events/details/?event=9643
DTSTART;VALUE=DATE:20191204T160000
DTEND;VALUE=DATE:20191204T173000
X-MICROSOFT-CDO-ALLDAYEVENT:FALSE
ORGANIZER: MAILTO:digitalhumanities@exeter.ac.uk
ATTACH: http://www.exeter.ac.uk/events/details/?event=9643
DTSTAMP:20191202T112553
LOCATION:Digital Humanities Laboratory
DESCRIPTION; CHARSET=UTF-8 :Postponed due to UCU planned strike action. Read more at https://humanities.exeter.ac.uk/research/digital/events/http://www.exeter.ac.uk/events/details/?event=9643
SEQUENCE:0
PRIORITY:5
CLASS:
STATUS:CONFIRMED
TRANSP:TRANSPARENT
X-MICROSOFT-CDO-IMPORTANCE:1
X-Microsoft-CDO-BUSYSTATUS:FREE
X-MICROSOFT-CDO-INSTTYPE:0
X-Microsoft-CDO-INTENDEDSTATUS:FREE
END:VEVENT
END:VCALENDAR