BEGIN:VCALENDAR
PRODID: University of Exeter
VERSION:2.0
BEGIN:VTIMEZONE
TZID:Europe/London
X-LIC-LOCATION:Europe/London
BEGIN:DAYLIGHT
TZOFFSETFROM:+0000
TZOFFSETTO:+0100
TZNAME:BST
DTSTART:20191008T150000
RRULE:FREQ=YEARLY;BYDAY=-1SU;BYMONTH=3
END:DAYLIGHT
BEGIN:STANDARD
TZOFFSETFROM:+0100
TZOFFSETTO:+0000
TZNAME:GMT
DTSTART:20191008T150000
RRULE:FREQ=YEARLY;BYDAY=-1SU;BYMONTH=10
END:STANDARD
END:VTIMEZONE
METHOD:PUBLISH
BEGIN:VEVENT
SUMMARY; CHARSET=UTF-8 :Professor Dong Nguyen: Natural Language Processing (NLP) for computational social science
UID:exeter_event_9608
URL:http://www.exeter.ac.uk/events/details/?event=9608
DTSTART;VALUE=DATE:20191008T150000
DTEND;VALUE=DATE:20191008T160000
X-MICROSOFT-CDO-ALLDAYEVENT:FALSE
ORGANIZER: MAILTO:
ATTACH: http://www.exeter.ac.uk/events/details/?event=9608
DTSTAMP:20191007T105451
LOCATION:LSI Seminar Room A&B
DESCRIPTION; CHARSET=UTF-8 :Professor Dong Nguyen is assistant professor at Utrecht University.  She was previously a research fellow at the Turing Institute. She completed her Ph.D. at the University of Twente having received a master&#39;s degree from the Language Technologies Institute at Carnegie Mellon University and a bachelor&#39;s degree in Computer Science from the University of Twente. 
http://www.exeter.ac.uk/events/details/?event=9608
SEQUENCE:0
PRIORITY:5
CLASS:
STATUS:CONFIRMED
TRANSP:TRANSPARENT
X-MICROSOFT-CDO-IMPORTANCE:1
X-Microsoft-CDO-BUSYSTATUS:FREE
X-MICROSOFT-CDO-INSTTYPE:0
X-Microsoft-CDO-INTENDEDSTATUS:FREE
END:VEVENT
END:VCALENDAR