BEGIN:VCALENDAR
PRODID: University of Exeter
VERSION:2.0
BEGIN:VTIMEZONE
TZID:Europe/London
X-LIC-LOCATION:Europe/London
BEGIN:DAYLIGHT
TZOFFSETFROM:+0000
TZOFFSETTO:+0100
TZNAME:BST
DTSTART:20190716T133000
RRULE:FREQ=YEARLY;BYDAY=-1SU;BYMONTH=3
END:DAYLIGHT
BEGIN:STANDARD
TZOFFSETFROM:+0100
TZOFFSETTO:+0000
TZNAME:GMT
DTSTART:20190716T133000
RRULE:FREQ=YEARLY;BYDAY=-1SU;BYMONTH=10
END:STANDARD
END:VTIMEZONE
METHOD:PUBLISH
BEGIN:VEVENT
SUMMARY; CHARSET=UTF-8 :Defence & Security at Turing
UID:exeter_event_9426
URL:http://www.exeter.ac.uk/events/details/?event=9426
DTSTART;VALUE=DATE:20190716T133000
DTEND;VALUE=DATE:20190716T143000
X-MICROSOFT-CDO-ALLDAYEVENT:FALSE
ORGANIZER: MAILTO:
ATTACH: http://www.exeter.ac.uk/events/details/?event=9426
DTSTAMP:20190624T101545
LOCATION:LSI Seminar Room A
DESCRIPTION; CHARSET=UTF-8 :Professor Briers will provide an overview of the Defence & Security programme at Turing, the partners, current research activities (ranging from security in the cloud, scalable MCMC, to Arabic sentiment analysis), and ways to get involved.
There will be an opportunity for tea, coffee and networking after the talk. 
http://www.exeter.ac.uk/events/details/?event=9426
SEQUENCE:0
PRIORITY:5
CLASS:
STATUS:CONFIRMED
TRANSP:TRANSPARENT
X-MICROSOFT-CDO-IMPORTANCE:1
X-Microsoft-CDO-BUSYSTATUS:FREE
X-MICROSOFT-CDO-INSTTYPE:0
X-Microsoft-CDO-INTENDEDSTATUS:FREE
END:VEVENT
END:VCALENDAR