BEGIN:VCALENDAR
PRODID: University of Exeter
VERSION:2.0
BEGIN:VTIMEZONE
TZID:Europe/London
X-LIC-LOCATION:Europe/London
BEGIN:DAYLIGHT
TZOFFSETFROM:+0000
TZOFFSETTO:+0100
TZNAME:BST
DTSTART:20190718T150000
RRULE:FREQ=YEARLY;BYDAY=-1SU;BYMONTH=3
END:DAYLIGHT
BEGIN:STANDARD
TZOFFSETFROM:+0100
TZOFFSETTO:+0000
TZNAME:GMT
DTSTART:20190718T150000
RRULE:FREQ=YEARLY;BYDAY=-1SU;BYMONTH=10
END:STANDARD
END:VTIMEZONE
METHOD:PUBLISH
BEGIN:VEVENT
SUMMARY; CHARSET=UTF-8 :IDSAI Summer Seminar & Reception: Professor Richard Everson
UID:exeter_event_9411
URL:http://www.exeter.ac.uk/events/details/?event=9411
DTSTART;VALUE=DATE:20190718T150000
DTEND;VALUE=DATE:20190718T180000
X-MICROSOFT-CDO-ALLDAYEVENT:FALSE
ORGANIZER: MAILTO:
ATTACH: http://www.exeter.ac.uk/events/details/?event=9411
DTSTAMP:20190624T124921
LOCATION:XFI Henderson Lecture Theatre
DESCRIPTION; CHARSET=UTF-8 :All University of Exeter staff and students are invited to join the IDSAI for the inaugural seminar by its Director, Professor Richard Everson.  
The seminar will run from 3-4pm and will be followed by a summer drinks reception.http://www.exeter.ac.uk/events/details/?event=9411
SEQUENCE:0
PRIORITY:5
CLASS:
STATUS:CONFIRMED
TRANSP:TRANSPARENT
X-MICROSOFT-CDO-IMPORTANCE:1
X-Microsoft-CDO-BUSYSTATUS:FREE
X-MICROSOFT-CDO-INSTTYPE:0
X-Microsoft-CDO-INTENDEDSTATUS:FREE
END:VEVENT
END:VCALENDAR