BEGIN:VCALENDAR
PRODID: University of Exeter
VERSION:2.0
BEGIN:VTIMEZONE
TZID:Europe/London
X-LIC-LOCATION:Europe/London
BEGIN:DAYLIGHT
TZOFFSETFROM:+0000
TZOFFSETTO:+0100
TZNAME:BST
DTSTART:20190604T130000
RRULE:FREQ=YEARLY;BYDAY=-1SU;BYMONTH=3
END:DAYLIGHT
BEGIN:STANDARD
TZOFFSETFROM:+0100
TZOFFSETTO:+0000
TZNAME:GMT
DTSTART:20190604T130000
RRULE:FREQ=YEARLY;BYDAY=-1SU;BYMONTH=10
END:STANDARD
END:VTIMEZONE
METHOD:PUBLISH
BEGIN:VEVENT
SUMMARY; CHARSET=UTF-8 :IDSAI: Data Governance, Algorithms and Values Workshop
UID:exeter_event_9383
URL:http://www.exeter.ac.uk/events/details/?event=9383
DTSTART;VALUE=DATE:20190604T130000
DTEND;VALUE=DATE:20190604T163000
X-MICROSOFT-CDO-ALLDAYEVENT:FALSE
ORGANIZER: MAILTO:
ATTACH: http://www.exeter.ac.uk/events/details/?event=9383
DTSTAMP:20190603T145540
LOCATION:Washington Singer  219
DESCRIPTION; CHARSET=UTF-8 :This IDSAI research theme, led by Professor Sabina Leonelli, addresses the social embedding of data across different settings, from business to policy and government, from biology to health and climate change, and the implications of such embedding brings both for the governance and regulation of data flows and for the technical management and use of data and related analytic tools. Responsible data management, the role of values in algorithms and questions of data ethics are key to this theme. Rather than considering these issues in isolation, we study their role within real-world challenges for - and both current and future applications of - data science and artificial intelligence.

All colleagues whose research is concerned with the theme are invited to join this workshop on 4th June to discuss the theme and future research in this area at the University. There will be a budget for the theme and funding opportunities for seed projects and Turing Institute connections.
http://www.exeter.ac.uk/events/details/?event=9383
SEQUENCE:0
PRIORITY:5
CLASS:
STATUS:CONFIRMED
TRANSP:TRANSPARENT
X-MICROSOFT-CDO-IMPORTANCE:1
X-Microsoft-CDO-BUSYSTATUS:FREE
X-MICROSOFT-CDO-INSTTYPE:0
X-Microsoft-CDO-INTENDEDSTATUS:FREE
END:VEVENT
END:VCALENDAR