BEGIN:VCALENDAR
PRODID: University of Exeter
VERSION:2.0
BEGIN:VTIMEZONE
TZID:Europe/London
X-LIC-LOCATION:Europe/London
BEGIN:DAYLIGHT
TZOFFSETFROM:+0000
TZOFFSETTO:+0100
TZNAME:BST
DTSTART:20190515T150000
RRULE:FREQ=YEARLY;BYDAY=-1SU;BYMONTH=3
END:DAYLIGHT
BEGIN:STANDARD
TZOFFSETFROM:+0100
TZOFFSETTO:+0000
TZNAME:GMT
DTSTART:20190515T150000
RRULE:FREQ=YEARLY;BYDAY=-1SU;BYMONTH=10
END:STANDARD
END:VTIMEZONE
METHOD:PUBLISH
BEGIN:VEVENT
SUMMARY; CHARSET=UTF-8 :IDSAI SEMINAR: Getting to the 2015 US 0.070ppm standard for ozone: The statisticianâ€™s story.
UID:exeter_event_9303
URL:http://www.exeter.ac.uk/events/details/?event=9303
DTSTART;VALUE=DATE:20190515T150000
DTEND;VALUE=DATE:20190515T160000
X-MICROSOFT-CDO-ALLDAYEVENT:FALSE
ORGANIZER: MAILTO:
ATTACH: http://www.exeter.ac.uk/events/details/?event=9303
DTSTAMP:20190415T142759
LOCATION:IAIS Building/LT2
DESCRIPTION; CHARSET=UTF-8 :Hear from Professor Jim Zidek, Professor Emeritus at the Department of Statistics, University of British Columbia, on the journey to new US ozone standards announced on Monday, October 26, 2015 by the Environmental Protection Agency (EPA), the Agency responsible for monitoring the Nationâ€™s air quality standards under the Clean Air Act of 1970.  Jim will talk about his experiences as a member of the EPAâ€™s Clean Air Scientific Advisory Committee (CASAC) for Ozone and his perspectives on the process as well as the results it produced.http://www.exeter.ac.uk/events/details/?event=9303
SEQUENCE:0
PRIORITY:5
CLASS:
STATUS:CONFIRMED
TRANSP:TRANSPARENT
X-MICROSOFT-CDO-IMPORTANCE:1
X-Microsoft-CDO-BUSYSTATUS:FREE
X-MICROSOFT-CDO-INSTTYPE:0
X-Microsoft-CDO-INTENDEDSTATUS:FREE
END:VEVENT
END:VCALENDAR