BEGIN:VCALENDAR
PRODID: University of Exeter
VERSION:2.0
BEGIN:VTIMEZONE
TZID:Europe/London
X-LIC-LOCATION:Europe/London
BEGIN:DAYLIGHT
TZOFFSETFROM:+0000
TZOFFSETTO:+0100
TZNAME:BST
DTSTART:20190501T090000
RRULE:FREQ=YEARLY;BYDAY=-1SU;BYMONTH=3
END:DAYLIGHT
BEGIN:STANDARD
TZOFFSETFROM:+0100
TZOFFSETTO:+0000
TZNAME:GMT
DTSTART:20190501T090000
RRULE:FREQ=YEARLY;BYDAY=-1SU;BYMONTH=10
END:STANDARD
END:VTIMEZONE
METHOD:PUBLISH
BEGIN:VEVENT
SUMMARY; CHARSET=UTF-8 :DPUK Datathon at the University of Exeter
UID:exeter_event_9294
URL:http://www.exeter.ac.uk/events/details/?event=9294
DTSTART;VALUE=DATE:20190501T090000
DTEND;VALUE=DATE:20190503T160000
X-MICROSOFT-CDO-ALLDAYEVENT:FALSE
ORGANIZER: MAILTO:
ATTACH: http://www.exeter.ac.uk/events/details/?event=9294
DTSTAMP:20190410T083636
LOCATION:Forum Exploration Lab 2
DESCRIPTION; CHARSET=UTF-8 :Clinical trials are moving earlier to intervene before the onset of dementia itself. As the amount of data that we have available to us increases rapidly, it is becoming vital to innovate in order to make sense of it and gain new insights. 

At the Exeter Datathon, you will work with others in the DPUK Data Portal. You will focus on predicting dementia risk; conversion from mild cognitive impairment to dementia; and the potential of transfer learning to facilitate predictions between different datasets.  http://www.exeter.ac.uk/events/details/?event=9294
SEQUENCE:0
PRIORITY:5
CLASS:
STATUS:CONFIRMED
TRANSP:TRANSPARENT
X-MICROSOFT-CDO-IMPORTANCE:1
X-Microsoft-CDO-BUSYSTATUS:FREE
X-MICROSOFT-CDO-INSTTYPE:0
X-Microsoft-CDO-INTENDEDSTATUS:FREE
END:VEVENT
END:VCALENDAR