BEGIN:VCALENDAR
PRODID: University of Exeter
VERSION:2.0
BEGIN:VTIMEZONE
TZID:Europe/London
X-LIC-LOCATION:Europe/London
BEGIN:DAYLIGHT
TZOFFSETFROM:+0000
TZOFFSETTO:+0100
TZNAME:BST
DTSTART:20190403T160000
RRULE:FREQ=YEARLY;BYDAY=-1SU;BYMONTH=3
END:DAYLIGHT
BEGIN:STANDARD
TZOFFSETFROM:+0100
TZOFFSETTO:+0000
TZNAME:GMT
DTSTART:20190403T160000
RRULE:FREQ=YEARLY;BYDAY=-1SU;BYMONTH=10
END:STANDARD
END:VTIMEZONE
METHOD:PUBLISH
BEGIN:VEVENT
SUMMARY; CHARSET=UTF-8 :IDSAI Seminar: Estimating Sea Ice Parameters with Satellite Data Synergy
UID:exeter_event_9252
URL:http://www.exeter.ac.uk/events/details/?event=9252
DTSTART;VALUE=DATE:20190403T160000
DTEND;VALUE=DATE:20190403T170000
X-MICROSOFT-CDO-ALLDAYEVENT:FALSE
ORGANIZER: MAILTO:
ATTACH: http://www.exeter.ac.uk/events/details/?event=9252
DTSTAMP:20190328T130714
LOCATION:Laver Building LT6
DESCRIPTION; CHARSET=UTF-8 :Shiming Xu is currently an associated professor at Department of Earth System Science, Tsinghua University.  His major research interests include numerical model development for geophysical fluid dynamics, sea ice parameter retrieval, and polar climate change. His recent works involve the development of physical data synergy methods that utilizes multiple sensor and multiple satellite data for Arctic sea ice.http://www.exeter.ac.uk/events/details/?event=9252
SEQUENCE:0
PRIORITY:5
CLASS:
STATUS:CONFIRMED
TRANSP:TRANSPARENT
X-MICROSOFT-CDO-IMPORTANCE:1
X-Microsoft-CDO-BUSYSTATUS:FREE
X-MICROSOFT-CDO-INSTTYPE:0
X-Microsoft-CDO-INTENDEDSTATUS:FREE
END:VEVENT
END:VCALENDAR