BEGIN:VCALENDAR
PRODID: University of Exeter
VERSION:2.0
BEGIN:VTIMEZONE
TZID:Europe/London
X-LIC-LOCATION:Europe/London
BEGIN:DAYLIGHT
TZOFFSETFROM:+0000
TZOFFSETTO:+0100
TZNAME:BST
DTSTART:20190404T083000
RRULE:FREQ=YEARLY;BYDAY=-1SU;BYMONTH=3
END:DAYLIGHT
BEGIN:STANDARD
TZOFFSETFROM:+0100
TZOFFSETTO:+0000
TZNAME:GMT
DTSTART:20190404T083000
RRULE:FREQ=YEARLY;BYDAY=-1SU;BYMONTH=10
END:STANDARD
END:VTIMEZONE
METHOD:PUBLISH
BEGIN:VEVENT
SUMMARY; CHARSET=UTF-8 :Workshop on Multiple Criteria Decision Making (MCDM)
UID:exeter_event_9192
URL:http://www.exeter.ac.uk/events/details/?event=9192
DTSTART;VALUE=DATE:20190404T083000
DTEND;VALUE=DATE:20190404T170000
X-MICROSOFT-CDO-ALLDAYEVENT:FALSE
ORGANIZER: MAILTO:
ATTACH: http://www.exeter.ac.uk/events/details/?event=9192
DTSTAMP:20190314T090526
LOCATION:IAIS Building/LT1
DESCRIPTION; CHARSET=UTF-8 :In many real-world problems, several conflicting criteria need to be optimized simultaneously. Therefore, it is crucial to properly structure and solve the problem with relevant tools for supporting a decision maker. The purpose of the workshop is to provide knowledge and basic concepts, an overview of different methods and tools in solving multiple criteria decision making (MCDM) problems. MCDM methods and tools have been found to be useful in several such applications e.g. health care, education, environment, transportation, business, and production.http://www.exeter.ac.uk/events/details/?event=9192
SEQUENCE:0
PRIORITY:5
CLASS:
STATUS:CONFIRMED
TRANSP:TRANSPARENT
X-MICROSOFT-CDO-IMPORTANCE:1
X-Microsoft-CDO-BUSYSTATUS:FREE
X-MICROSOFT-CDO-INSTTYPE:0
X-Microsoft-CDO-INTENDEDSTATUS:FREE
END:VEVENT
END:VCALENDAR