BEGIN:VCALENDAR
PRODID: University of Exeter
VERSION:2.0
BEGIN:VTIMEZONE
TZID:Europe/London
X-LIC-LOCATION:Europe/London
BEGIN:DAYLIGHT
TZOFFSETFROM:+0000
TZOFFSETTO:+0100
TZNAME:BST
DTSTART:20190618T090000
RRULE:FREQ=YEARLY;BYDAY=-1SU;BYMONTH=3
END:DAYLIGHT
BEGIN:STANDARD
TZOFFSETFROM:+0100
TZOFFSETTO:+0000
TZNAME:GMT
DTSTART:20190618T090000
RRULE:FREQ=YEARLY;BYDAY=-1SU;BYMONTH=10
END:STANDARD
END:VTIMEZONE
METHOD:PUBLISH
BEGIN:VEVENT
SUMMARY; CHARSET=UTF-8 :42nd Research Studentsâ€™ Conference in Probability and Statistics (RSC 2019)
UID:exeter_event_9138
URL:http://www.exeter.ac.uk/events/details/?event=9138
DTSTART;VALUE=DATE:20190618T090000
DTEND;VALUE=DATE:20190621T160000
X-MICROSOFT-CDO-ALLDAYEVENT:FALSE
ORGANIZER: MAILTO:
ATTACH: http://www.exeter.ac.uk/events/details/?event=9138
DTSTAMP:20190311T123532
LOCATION:Streatham Court
DESCRIPTION; CHARSET=UTF-8 :The University of Exeter is proud and excited to host the 42nd Research Studentsâ€™ Conference in Probability and Statistics (RSC 2019) on the 18th-21st June 2019 sponsored by the Alan Turing Institute.http://www.exeter.ac.uk/events/details/?event=9138
SEQUENCE:0
PRIORITY:5
CLASS:
STATUS:CONFIRMED
TRANSP:TRANSPARENT
X-MICROSOFT-CDO-IMPORTANCE:1
X-Microsoft-CDO-BUSYSTATUS:FREE
X-MICROSOFT-CDO-INSTTYPE:0
X-Microsoft-CDO-INTENDEDSTATUS:FREE
END:VEVENT
END:VCALENDAR