BEGIN:VCALENDAR
PRODID: University of Exeter
VERSION:2.0
BEGIN:VTIMEZONE
TZID:Europe/London
X-LIC-LOCATION:Europe/London
BEGIN:DAYLIGHT
TZOFFSETFROM:+0000
TZOFFSETTO:+0100
TZNAME:BST
DTSTART:20180702T000000
RRULE:FREQ=YEARLY;BYDAY=-1SU;BYMONTH=3
END:DAYLIGHT
BEGIN:STANDARD
TZOFFSETFROM:+0100
TZOFFSETTO:+0000
TZNAME:GMT
DTSTART:20180702T000000
RRULE:FREQ=YEARLY;BYDAY=-1SU;BYMONTH=10
END:STANDARD
END:VTIMEZONE
METHOD:PUBLISH
BEGIN:VEVENT
SUMMARY; CHARSET=UTF-8 :The Institute of Coding Summer School at the University of Exeter
UID:exeter_event_8224
URL:http://www.exeter.ac.uk/events/details/?event=8224
DTSTART;VALUE=DATE:20180702T000000
DTEND;VALUE=DATE:20180703T235900
X-MICROSOFT-CDO-ALLDAYEVENT:TRUE
ORGANIZER: MAILTO:
ATTACH: http://www.exeter.ac.uk/events/details/?event=8224
DTSTAMP:20180425T130136
LOCATION:EX44PE
DESCRIPTION; CHARSET=UTF-8 :The Institute of Coding (IoC) Summer School at Exeter is an opportunity to enhance your digital skills at a summer school designed to introduce you to the fundamentals of computer programming and social data analytics. The school seeks to attract those  undergraduate and postgraduate students who may not yet have had the opportunity to learn these skills (e.g. Humanities and Social Sciences).
 
A desire to challenge yourself and learn to code is the only requirement. A background in maths or statistics is not expected of participants.

	http://www.exeter.ac.uk/events/details/?event=8224
SEQUENCE:0
PRIORITY:5
CLASS:
STATUS:CONFIRMED
TRANSP:TRANSPARENT
X-MICROSOFT-CDO-IMPORTANCE:1
X-Microsoft-CDO-BUSYSTATUS:FREE
X-MICROSOFT-CDO-INSTTYPE:0
X-Microsoft-CDO-INTENDEDSTATUS:FREE
END:VEVENT
END:VCALENDAR