BEGIN:VCALENDAR
PRODID: University of Exeter
VERSION:2.0
BEGIN:VTIMEZONE
TZID:Europe/London
X-LIC-LOCATION:Europe/London
BEGIN:DAYLIGHT
TZOFFSETFROM:+0000
TZOFFSETTO:+0100
TZNAME:BST
DTSTART:20180530T153000
RRULE:FREQ=YEARLY;BYDAY=-1SU;BYMONTH=3
END:DAYLIGHT
BEGIN:STANDARD
TZOFFSETFROM:+0100
TZOFFSETTO:+0000
TZNAME:GMT
DTSTART:20180530T153000
RRULE:FREQ=YEARLY;BYDAY=-1SU;BYMONTH=10
END:STANDARD
END:VTIMEZONE
METHOD:PUBLISH
BEGIN:VEVENT
SUMMARY; CHARSET=UTF-8 :What Can Genetics Tell Us About Education?
UID:exeter_event_8210
URL:http://www.exeter.ac.uk/events/details/?event=8210
DTSTART;VALUE=DATE:20180530T153000
DTEND;VALUE=DATE:20180530T170000
X-MICROSOFT-CDO-ALLDAYEVENT:FALSE
ORGANIZER: MAILTO:
ATTACH: http://www.exeter.ac.uk/events/details/?event=8210
DTSTAMP:20180420T132830
LOCATION:EMS Building S11
DESCRIPTION; CHARSET=UTF-8 :Dr Emily Smith-Woolley from King&#39;s College London is a behavioural geneticist from the group of Robert Plomin at the KCL. They work with the data from the Twins Early Development Study (TEDS) to separate genetic and environmental effects on children&#39;s outcomes. They&#39;ve just published a paper in the Science of Learning on the effects of school type on exam performance arguing that superior results of children in selective schools come from the selection of more academically able children rather than school performance (see https://www.nature.com/articles/s41539-018-0019-8). Emily will present these results as well as a more general framework of how behavioural geneticists study education. http://www.exeter.ac.uk/events/details/?event=8210
SEQUENCE:0
PRIORITY:5
CLASS:
STATUS:CONFIRMED
TRANSP:TRANSPARENT
X-MICROSOFT-CDO-IMPORTANCE:1
X-Microsoft-CDO-BUSYSTATUS:FREE
X-MICROSOFT-CDO-INSTTYPE:0
X-Microsoft-CDO-INTENDEDSTATUS:FREE
END:VEVENT
END:VCALENDAR