BEGIN:VCALENDAR
PRODID: University of Exeter
VERSION:2.0
BEGIN:VTIMEZONE
TZID:Europe/London
X-LIC-LOCATION:Europe/London
BEGIN:DAYLIGHT
TZOFFSETFROM:+0000
TZOFFSETTO:+0100
TZNAME:BST
DTSTART:20180516T153000
RRULE:FREQ=YEARLY;BYDAY=-1SU;BYMONTH=3
END:DAYLIGHT
BEGIN:STANDARD
TZOFFSETFROM:+0100
TZOFFSETTO:+0000
TZNAME:GMT
DTSTART:20180516T153000
RRULE:FREQ=YEARLY;BYDAY=-1SU;BYMONTH=10
END:STANDARD
END:VTIMEZONE
METHOD:PUBLISH
BEGIN:VEVENT
SUMMARY; CHARSET=UTF-8 :The Social Stratification of Educational Enjoyment
UID:exeter_event_8209
URL:http://www.exeter.ac.uk/events/details/?event=8209
DTSTART;VALUE=DATE:20180516T153000
DTEND;VALUE=DATE:20180516T170000
X-MICROSOFT-CDO-ALLDAYEVENT:FALSE
ORGANIZER: MAILTO:
ATTACH: http://www.exeter.ac.uk/events/details/?event=8209
DTSTAMP:20180420T132530
LOCATION:EMS Building S11
DESCRIPTION; CHARSET=UTF-8 :Dr Roxanne Connelly from the University of Warwick is a sociologist working in the area of social stratification. Most educational research is concerned with children&#39;s academic outcomes. In this talk Roxanne looks into how much primary school children in the UK actually enjoy learning using data from the UK Millennium Cohort Survey.http://www.exeter.ac.uk/events/details/?event=8209
SEQUENCE:0
PRIORITY:5
CLASS:
STATUS:CONFIRMED
TRANSP:TRANSPARENT
X-MICROSOFT-CDO-IMPORTANCE:1
X-Microsoft-CDO-BUSYSTATUS:FREE
X-MICROSOFT-CDO-INSTTYPE:0
X-Microsoft-CDO-INTENDEDSTATUS:FREE
END:VEVENT
END:VCALENDAR