BEGIN:VCALENDAR
PRODID: University of Exeter
VERSION:2.0
BEGIN:VTIMEZONE
TZID:Europe/London
X-LIC-LOCATION:Europe/London
BEGIN:DAYLIGHT
TZOFFSETFROM:+0000
TZOFFSETTO:+0100
TZNAME:BST
DTSTART:20180502T153000
RRULE:FREQ=YEARLY;BYDAY=-1SU;BYMONTH=3
END:DAYLIGHT
BEGIN:STANDARD
TZOFFSETFROM:+0100
TZOFFSETTO:+0000
TZNAME:GMT
DTSTART:20180502T153000
RRULE:FREQ=YEARLY;BYDAY=-1SU;BYMONTH=10
END:STANDARD
END:VTIMEZONE
METHOD:PUBLISH
BEGIN:VEVENT
SUMMARY; CHARSET=UTF-8 :Avoiding Bias When Estimating the Consistency and Stability of Value-Added School Effects.
UID:exeter_event_8208
URL:http://www.exeter.ac.uk/events/details/?event=8208
DTSTART;VALUE=DATE:20180502T153000
DTEND;VALUE=DATE:20180502T170000
X-MICROSOFT-CDO-ALLDAYEVENT:FALSE
ORGANIZER: MAILTO:
ATTACH: http://www.exeter.ac.uk/events/details/?event=8208
DTSTAMP:20180420T132112
LOCATION:Washington Singer 234
DESCRIPTION; CHARSET=UTF-8 :As part of the Exeter Q-Step Centre Research Seminar on Education Dr George Leckie for the University of Bristol will talk about value-added school effects (used in many school rankings) and how to estimate them best. 
George is a statistician and economist from the Centre for Multilevel Modelling, and he&#39;s got a lot of experience with working with the National Pupil Database and is a co-chair of the NPD user group. http://www.exeter.ac.uk/events/details/?event=8208
SEQUENCE:0
PRIORITY:5
CLASS:
STATUS:CONFIRMED
TRANSP:TRANSPARENT
X-MICROSOFT-CDO-IMPORTANCE:1
X-Microsoft-CDO-BUSYSTATUS:FREE
X-MICROSOFT-CDO-INSTTYPE:0
X-Microsoft-CDO-INTENDEDSTATUS:FREE
END:VEVENT
END:VCALENDAR