BEGIN:VCALENDAR
PRODID: University of Exeter
VERSION:2.0
BEGIN:VTIMEZONE
TZID:Europe/London
X-LIC-LOCATION:Europe/London
BEGIN:DAYLIGHT
TZOFFSETFROM:+0000
TZOFFSETTO:+0100
TZNAME:BST
DTSTART:20180220T093000
RRULE:FREQ=YEARLY;BYDAY=-1SU;BYMONTH=3
END:DAYLIGHT
BEGIN:STANDARD
TZOFFSETFROM:+0100
TZOFFSETTO:+0000
TZNAME:GMT
DTSTART:20180220T093000
RRULE:FREQ=YEARLY;BYDAY=-1SU;BYMONTH=10
END:STANDARD
END:VTIMEZONE
METHOD:PUBLISH
BEGIN:VEVENT
SUMMARY; CHARSET=UTF-8 :Technology and Electoral Research: Perspectives from Industry and Academia
UID:exeter_event_7980
URL:http://www.exeter.ac.uk/events/details/?event=7980
DTSTART;VALUE=DATE:20180220T093000
DTEND;VALUE=DATE:20180220T170000
X-MICROSOFT-CDO-ALLDAYEVENT:FALSE
ORGANIZER: MAILTO:
ATTACH: http://www.exeter.ac.uk/events/details/?event=7980
DTSTAMP:20180130T143313
LOCATION:The Nuffield Foundation. 28 Bedford Square, Fitzrovia, London WC1B 3JS
DESCRIPTION; CHARSET=UTF-8 :This conference is the closing event for VOTEADVICE, a four-year research project funded by the European Commission to investigate the impact of new technologies on political behaviour. The scientific objectives of VOTEADVICE have been to produce research related to how new technologies and social media influence political and social behaviour. In order to achieve this aim the Research Network developed and applied techniques for the analysis of non-probability samples, online surveys and experiments and eye tracking tools.
http://www.exeter.ac.uk/events/details/?event=7980
SEQUENCE:0
PRIORITY:5
CLASS:
STATUS:CONFIRMED
TRANSP:TRANSPARENT
X-MICROSOFT-CDO-IMPORTANCE:1
X-Microsoft-CDO-BUSYSTATUS:FREE
X-MICROSOFT-CDO-INSTTYPE:0
X-Microsoft-CDO-INTENDEDSTATUS:FREE
END:VEVENT
END:VCALENDAR