BEGIN:VCALENDAR
PRODID: University of Exeter
VERSION:2.0
BEGIN:VTIMEZONE
TZID:Europe/London
X-LIC-LOCATION:Europe/London
BEGIN:DAYLIGHT
TZOFFSETFROM:+0000
TZOFFSETTO:+0100
TZNAME:BST
DTSTART:20260505T113000
RRULE:FREQ=YEARLY;BYDAY=-1SU;BYMONTH=3
END:DAYLIGHT
BEGIN:STANDARD
TZOFFSETFROM:+0100
TZOFFSETTO:+0000
TZNAME:GMT
DTSTART:20260505T113000
RRULE:FREQ=YEARLY;BYDAY=-1SU;BYMONTH=10
END:STANDARD
END:VTIMEZONE
METHOD:PUBLISH
BEGIN:VEVENT
SUMMARY; CHARSET=UTF-8 :Dirty Governance: The Architecture of Non-Accountability in EU Migration Governance
UID:exeter_event_15626
URL:http://www.exeter.ac.uk/events/details/?event=15626
DTSTART;VALUE=DATE:20260505T113000
DTEND;VALUE=DATE:20260505T123000
X-MICROSOFT-CDO-ALLDAYEVENT:FALSE
ORGANIZER: MAILTO:routes@exeter.ac.uk
ATTACH: http://www.exeter.ac.uk/events/details/?event=15626
DTSTAMP:20260409T131421
LOCATION:XFI Conference Room 1
DESCRIPTION; CHARSET=UTF-8 :Please join Routes for our May Conversation &#34;Dirty Governance: The Architecture of Non-Accountability in EU Migration Governance &#34;with a visiting PhD scholar from the University of British Columbia Saher Ahmed.http://www.exeter.ac.uk/events/details/?event=15626
SEQUENCE:0
PRIORITY:5
CLASS:
STATUS:CONFIRMED
TRANSP:TRANSPARENT
X-MICROSOFT-CDO-IMPORTANCE:1
X-Microsoft-CDO-BUSYSTATUS:FREE
X-MICROSOFT-CDO-INSTTYPE:0
X-Microsoft-CDO-INTENDEDSTATUS:FREE
END:VEVENT
END:VCALENDAR