BEGIN:VCALENDAR
PRODID: University of Exeter
VERSION:2.0
BEGIN:VTIMEZONE
TZID:Europe/London
X-LIC-LOCATION:Europe/London
BEGIN:DAYLIGHT
TZOFFSETFROM:+0000
TZOFFSETTO:+0100
TZNAME:BST
DTSTART:20260617T000000
RRULE:FREQ=YEARLY;BYDAY=-1SU;BYMONTH=3
END:DAYLIGHT
BEGIN:STANDARD
TZOFFSETFROM:+0100
TZOFFSETTO:+0000
TZNAME:GMT
DTSTART:20260617T000000
RRULE:FREQ=YEARLY;BYDAY=-1SU;BYMONTH=10
END:STANDARD
END:VTIMEZONE
METHOD:PUBLISH
BEGIN:VEVENT
SUMMARY; CHARSET=UTF-8 :Exeter-Fudan Global Thought Network Symposium 2026
UID:exeter_event_15598
URL:http://www.exeter.ac.uk/events/details/?event=15598
DTSTART;VALUE=DATE:20260617T000000
DTEND;VALUE=DATE:20260618T235900
X-MICROSOFT-CDO-ALLDAYEVENT:TRUE
ORGANIZER: MAILTO:
ATTACH: http://www.exeter.ac.uk/events/details/?event=15598
DTSTAMP:20260309T154235
LOCATION:University of Exeter
DESCRIPTION; CHARSET=UTF-8 :This symposium examines how knowledge changes across historical, cultural, and political contexts. Bringing together scholars from Exeter and Fudan, it invites work on situated and comparative approaches, decolonial and non‑Western epistemologies, and the limits of universal disciplinary frameworks.http://www.exeter.ac.uk/events/details/?event=15598
SEQUENCE:0
PRIORITY:5
CLASS:
STATUS:CONFIRMED
TRANSP:TRANSPARENT
X-MICROSOFT-CDO-IMPORTANCE:1
X-Microsoft-CDO-BUSYSTATUS:FREE
X-MICROSOFT-CDO-INSTTYPE:0
X-Microsoft-CDO-INTENDEDSTATUS:FREE
END:VEVENT
END:VCALENDAR