BEGIN:VCALENDAR
PRODID: University of Exeter
VERSION:2.0
BEGIN:VTIMEZONE
TZID:Europe/London
X-LIC-LOCATION:Europe/London
BEGIN:DAYLIGHT
TZOFFSETFROM:+0000
TZOFFSETTO:+0100
TZNAME:BST
DTSTART:20250612T160000
RRULE:FREQ=YEARLY;BYDAY=-1SU;BYMONTH=3
END:DAYLIGHT
BEGIN:STANDARD
TZOFFSETFROM:+0100
TZOFFSETTO:+0000
TZNAME:GMT
DTSTART:20250612T160000
RRULE:FREQ=YEARLY;BYDAY=-1SU;BYMONTH=10
END:STANDARD
END:VTIMEZONE
METHOD:PUBLISH
BEGIN:VEVENT
SUMMARY; CHARSET=UTF-8 :Remembering Women: Breaking through Traumatic Histories
UID:exeter_event_14989
URL:http://www.exeter.ac.uk/events/details/?event=14989
DTSTART;VALUE=DATE:20250612T160000
DTEND;VALUE=DATE:20250612T173000
X-MICROSOFT-CDO-ALLDAYEVENT:FALSE
ORGANIZER: MAILTO:societiesandcultures@exeter.ac.uk
ATTACH: http://www.exeter.ac.uk/events/details/?event=14989
DTSTAMP:20250603T150501
LOCATION:Queens Building MR2&3
DESCRIPTION; CHARSET=UTF-8 :Drawing on the innovative research method of object fabulation, this talk explores past cultures where women lived with autonomy, power, and parity, from Scythian warrior women to egalitarian societies in Stone Age Europe and Minoan Crete. These were not exceptions, but enduring alternatives to the patriarchal story we have been telling about the past. Interwoven with personal narratives and a rigorous examination of the contemporary cultural memory of gender equality in the UK, my research is published by Icon Books on 19 June 2025 as Remembering Women: Lessons from the Ancient World. This monograph calls for a new kind of history: one that doesn’t retraumatise, but reimagines.http://www.exeter.ac.uk/events/details/?event=14989
SEQUENCE:0
PRIORITY:5
CLASS:
STATUS:CONFIRMED
TRANSP:TRANSPARENT
X-MICROSOFT-CDO-IMPORTANCE:1
X-Microsoft-CDO-BUSYSTATUS:FREE
X-MICROSOFT-CDO-INSTTYPE:0
X-Microsoft-CDO-INTENDEDSTATUS:FREE
END:VEVENT
END:VCALENDAR