BEGIN:VCALENDAR
PRODID: University of Exeter
VERSION:2.0
BEGIN:VTIMEZONE
TZID:Europe/London
X-LIC-LOCATION:Europe/London
BEGIN:DAYLIGHT
TZOFFSETFROM:+0000
TZOFFSETTO:+0100
TZNAME:BST
DTSTART:20250604T160000
RRULE:FREQ=YEARLY;BYDAY=-1SU;BYMONTH=3
END:DAYLIGHT
BEGIN:STANDARD
TZOFFSETFROM:+0100
TZOFFSETTO:+0000
TZNAME:GMT
DTSTART:20250604T160000
RRULE:FREQ=YEARLY;BYDAY=-1SU;BYMONTH=10
END:STANDARD
END:VTIMEZONE
METHOD:PUBLISH
BEGIN:VEVENT
SUMMARY; CHARSET=UTF-8 :We Are War: On Bearing Witness and Sharing Pain
UID:exeter_event_14987
URL:http://www.exeter.ac.uk/events/details/?event=14987
DTSTART;VALUE=DATE:20250604T160000
DTEND;VALUE=DATE:20250604T170000
X-MICROSOFT-CDO-ALLDAYEVENT:FALSE
ORGANIZER: MAILTO:societiesandcultures@exeter.ac.uk
ATTACH: http://www.exeter.ac.uk/events/details/?event=14987
DTSTAMP:20250602T133138
LOCATION:Alexander Building TS5
DESCRIPTION; CHARSET=UTF-8 :In her talk, Olesya Khromeychuk explores the ways in which war transforms language, literature, and those who bear witness. Analysing the case of Ukraine, and specifically Victoria Amelina’s work, and situating it in the wider discussions of the act of witnessing and representation of pain, she argues that war literature, fractured and incomplete, is not just a record of destruction but also a vital vehicle in the pursuit of justice. As such, it ensures that testimony—no matter how fragmented—continues to speak for those silenced and brings those unaffected by war in communion with those who live it.

This talk will be followed by a reception and book signing.http://www.exeter.ac.uk/events/details/?event=14987
SEQUENCE:0
PRIORITY:5
CLASS:
STATUS:CONFIRMED
TRANSP:TRANSPARENT
X-MICROSOFT-CDO-IMPORTANCE:1
X-Microsoft-CDO-BUSYSTATUS:FREE
X-MICROSOFT-CDO-INSTTYPE:0
X-Microsoft-CDO-INTENDEDSTATUS:FREE
END:VEVENT
END:VCALENDAR