BEGIN:VCALENDAR
PRODID: University of Exeter
VERSION:2.0
BEGIN:VTIMEZONE
TZID:Europe/London
X-LIC-LOCATION:Europe/London
BEGIN:DAYLIGHT
TZOFFSETFROM:+0000
TZOFFSETTO:+0100
TZNAME:BST
DTSTART:20250610T093000
RRULE:FREQ=YEARLY;BYDAY=-1SU;BYMONTH=3
END:DAYLIGHT
BEGIN:STANDARD
TZOFFSETFROM:+0100
TZOFFSETTO:+0000
TZNAME:GMT
DTSTART:20250610T093000
RRULE:FREQ=YEARLY;BYDAY=-1SU;BYMONTH=10
END:STANDARD
END:VTIMEZONE
METHOD:PUBLISH
BEGIN:VEVENT
SUMMARY; CHARSET=UTF-8 :Exeter Brain Conference 2025
UID:exeter_event_14978
URL:http://www.exeter.ac.uk/events/details/?event=14978
DTSTART;VALUE=DATE:20250610T093000
DTEND;VALUE=DATE:20250610T170000
X-MICROSOFT-CDO-ALLDAYEVENT:FALSE
ORGANIZER: MAILTO:s.h.hughes@exeter.ac.uk
ATTACH: http://www.exeter.ac.uk/events/details/?event=14978
DTSTAMP:20250527T082657
LOCATION:XFi
DESCRIPTION; CHARSET=UTF-8 :An opportunity to learn about different areas of experimental and data-driven neuroscience research across the University. Keynote lecture from Professor Elsa Fouragnan (University of Plymouth) on Transcranial Ultrasound Stimulation.http://www.exeter.ac.uk/events/details/?event=14978
SEQUENCE:0
PRIORITY:5
CLASS:
STATUS:CONFIRMED
TRANSP:TRANSPARENT
X-MICROSOFT-CDO-IMPORTANCE:1
X-Microsoft-CDO-BUSYSTATUS:FREE
X-MICROSOFT-CDO-INSTTYPE:0
X-Microsoft-CDO-INTENDEDSTATUS:FREE
END:VEVENT
END:VCALENDAR