BEGIN:VCALENDAR
PRODID: University of Exeter
VERSION:2.0
BEGIN:VTIMEZONE
TZID:Europe/London
X-LIC-LOCATION:Europe/London
BEGIN:DAYLIGHT
TZOFFSETFROM:+0000
TZOFFSETTO:+0100
TZNAME:BST
DTSTART:20250528T160000
RRULE:FREQ=YEARLY;BYDAY=-1SU;BYMONTH=3
END:DAYLIGHT
BEGIN:STANDARD
TZOFFSETFROM:+0100
TZOFFSETTO:+0000
TZNAME:GMT
DTSTART:20250528T160000
RRULE:FREQ=YEARLY;BYDAY=-1SU;BYMONTH=10
END:STANDARD
END:VTIMEZONE
METHOD:PUBLISH
BEGIN:VEVENT
SUMMARY; CHARSET=UTF-8 :A Routes conversation on creative approaches to expressing experiences of asylum appeals, seminar
UID:exeter_event_14880
URL:http://www.exeter.ac.uk/events/details/?event=14880
DTSTART;VALUE=DATE:20250528T160000
DTEND;VALUE=DATE:20250528T170000
X-MICROSOFT-CDO-ALLDAYEVENT:FALSE
ORGANIZER: MAILTO:n.m.gill@exeter.ac.uk
ATTACH: http://www.exeter.ac.uk/events/details/?event=14880
DTSTAMP:20250409T152754
LOCATION:Zoom
DESCRIPTION; CHARSET=UTF-8 :Dr Isabel Arce Zelada, a postdoctoral researcher at the University College Dublin, will be speaking on the arts-based methods used in her project and how they enabled counter-narratives to emerge, by allowing people to perform identity migrations within the project and revalue their desires as central to interrogating the violence of the asylum process that they experience. http://www.exeter.ac.uk/events/details/?event=14880
SEQUENCE:0
PRIORITY:5
CLASS:
STATUS:CONFIRMED
TRANSP:TRANSPARENT
X-MICROSOFT-CDO-IMPORTANCE:1
X-Microsoft-CDO-BUSYSTATUS:FREE
X-MICROSOFT-CDO-INSTTYPE:0
X-Microsoft-CDO-INTENDEDSTATUS:FREE
END:VEVENT
END:VCALENDAR