BEGIN:VCALENDAR
PRODID: University of Exeter
VERSION:2.0
BEGIN:VTIMEZONE
TZID:Europe/London
X-LIC-LOCATION:Europe/London
BEGIN:DAYLIGHT
TZOFFSETFROM:+0000
TZOFFSETTO:+0100
TZNAME:BST
DTSTART:20250605T100000
RRULE:FREQ=YEARLY;BYDAY=-1SU;BYMONTH=3
END:DAYLIGHT
BEGIN:STANDARD
TZOFFSETFROM:+0100
TZOFFSETTO:+0000
TZNAME:GMT
DTSTART:20250605T100000
RRULE:FREQ=YEARLY;BYDAY=-1SU;BYMONTH=10
END:STANDARD
END:VTIMEZONE
METHOD:PUBLISH
BEGIN:VEVENT
SUMMARY; CHARSET=UTF-8 :J&VS Network Workshop: Critical and Creative Approaches to Trauma-Informed
UID:exeter_event_14853
URL:http://www.exeter.ac.uk/events/details/?event=14853
DTSTART;VALUE=DATE:20250605T100000
DTEND;VALUE=DATE:20250605T160000
X-MICROSOFT-CDO-ALLDAYEVENT:FALSE
ORGANIZER: MAILTO:justice-violencestudies@exeter.ac.uk
ATTACH: http://www.exeter.ac.uk/events/details/?event=14853
DTSTAMP:20250326T164546
LOCATION:Exeter Phoenix, Gandy Street, Exeter
DESCRIPTION; CHARSET=UTF-8 :This one-day workshop will people together to discuss the methods and challenges of trauma-informed research and practice. http://www.exeter.ac.uk/events/details/?event=14853
SEQUENCE:0
PRIORITY:5
CLASS:
STATUS:CONFIRMED
TRANSP:TRANSPARENT
X-MICROSOFT-CDO-IMPORTANCE:1
X-Microsoft-CDO-BUSYSTATUS:FREE
X-MICROSOFT-CDO-INSTTYPE:0
X-Microsoft-CDO-INTENDEDSTATUS:FREE
END:VEVENT
END:VCALENDAR