BEGIN:VCALENDAR
PRODID: University of Exeter
VERSION:2.0
BEGIN:VTIMEZONE
TZID:Europe/London
X-LIC-LOCATION:Europe/London
BEGIN:DAYLIGHT
TZOFFSETFROM:+0000
TZOFFSETTO:+0100
TZNAME:BST
DTSTART:20250520T150000
RRULE:FREQ=YEARLY;BYDAY=-1SU;BYMONTH=3
END:DAYLIGHT
BEGIN:STANDARD
TZOFFSETFROM:+0100
TZOFFSETTO:+0000
TZNAME:GMT
DTSTART:20250520T150000
RRULE:FREQ=YEARLY;BYDAY=-1SU;BYMONTH=10
END:STANDARD
END:VTIMEZONE
METHOD:PUBLISH
BEGIN:VEVENT
SUMMARY; CHARSET=UTF-8 :Justice & Violence Studies Research Network Seminar: Professor Esther Reed. Duty to deter? On dealing with tyrants in a nuclear age
UID:exeter_event_14836
URL:http://www.exeter.ac.uk/events/details/?event=14836
DTSTART;VALUE=DATE:20250520T150000
DTEND;VALUE=DATE:20250520T160000
X-MICROSOFT-CDO-ALLDAYEVENT:FALSE
ORGANIZER: MAILTO:justice-violencestudies@exeter.ac.uk
ATTACH: http://www.exeter.ac.uk/events/details/?event=14836
DTSTAMP:20250326T102441
LOCATION:Remote via Teams
DESCRIPTION; CHARSET=UTF-8 :The Justice & Violence Studies @Exeter Research Network are pleased to invite you to this seminar with Professor Esther Reed. Esther is Professor of theological ethics and moral philosophy in the Department of Theology and Religion at the University of Exeter. http://www.exeter.ac.uk/events/details/?event=14836
SEQUENCE:0
PRIORITY:5
CLASS:
STATUS:CONFIRMED
TRANSP:TRANSPARENT
X-MICROSOFT-CDO-IMPORTANCE:1
X-Microsoft-CDO-BUSYSTATUS:FREE
X-MICROSOFT-CDO-INSTTYPE:0
X-Microsoft-CDO-INTENDEDSTATUS:FREE
END:VEVENT
END:VCALENDAR