BEGIN:VCALENDAR
PRODID: University of Exeter
VERSION:2.0
BEGIN:VTIMEZONE
TZID:Europe/London
X-LIC-LOCATION:Europe/London
BEGIN:DAYLIGHT
TZOFFSETFROM:+0000
TZOFFSETTO:+0100
TZNAME:BST
DTSTART:20241016T160000
RRULE:FREQ=YEARLY;BYDAY=-1SU;BYMONTH=3
END:DAYLIGHT
BEGIN:STANDARD
TZOFFSETFROM:+0100
TZOFFSETTO:+0000
TZNAME:GMT
DTSTART:20241016T160000
RRULE:FREQ=YEARLY;BYDAY=-1SU;BYMONTH=10
END:STANDARD
END:VTIMEZONE
METHOD:PUBLISH
BEGIN:VEVENT
SUMMARY; CHARSET=UTF-8 :Lecture - Health and Wellbeing in the Belarusian Diaspora - Aliaksandr Kazakou - Weds 16th October - 4-5pm [online]
UID:exeter_event_14319
URL:http://www.exeter.ac.uk/events/details/?event=14319
DTSTART;VALUE=DATE:20241016T160000
DTEND;VALUE=DATE:20241016T170000
X-MICROSOFT-CDO-ALLDAYEVENT:FALSE
ORGANIZER: MAILTO:
ATTACH: http://www.exeter.ac.uk/events/details/?event=14319
DTSTAMP:20241016T145251
LOCATION:Zoom
DESCRIPTION; CHARSET=UTF-8 :Please join Routes for a lecture by Aliaksandr Kazakou, on the topic of Health and Wellbeing in the Belarusian Diaspora, on Wednesday 16th October, 4-5pm, on Zoom. http://www.exeter.ac.uk/events/details/?event=14319
SEQUENCE:0
PRIORITY:5
CLASS:
STATUS:CONFIRMED
TRANSP:TRANSPARENT
X-MICROSOFT-CDO-IMPORTANCE:1
X-Microsoft-CDO-BUSYSTATUS:FREE
X-MICROSOFT-CDO-INSTTYPE:0
X-Microsoft-CDO-INTENDEDSTATUS:FREE
END:VEVENT
END:VCALENDAR