BEGIN:VCALENDAR
PRODID: University of Exeter
VERSION:2.0
BEGIN:VTIMEZONE
TZID:Europe/London
X-LIC-LOCATION:Europe/London
BEGIN:DAYLIGHT
TZOFFSETFROM:+0000
TZOFFSETTO:+0100
TZNAME:BST
DTSTART:20241001T113000
RRULE:FREQ=YEARLY;BYDAY=-1SU;BYMONTH=3
END:DAYLIGHT
BEGIN:STANDARD
TZOFFSETFROM:+0100
TZOFFSETTO:+0000
TZNAME:GMT
DTSTART:20241001T113000
RRULE:FREQ=YEARLY;BYDAY=-1SU;BYMONTH=10
END:STANDARD
END:VTIMEZONE
METHOD:PUBLISH
BEGIN:VEVENT
SUMMARY; CHARSET=UTF-8 :J&V Research Network and EXCEPT co-hosted seminar- Dr Al McFadyen, MBE- Coercive Control, Black Lives Matter and restricted breath for understanding
UID:exeter_event_14211
URL:http://www.exeter.ac.uk/events/details/?event=14211
DTSTART;VALUE=DATE:20241001T113000
DTEND;VALUE=DATE:20241001T133000
X-MICROSOFT-CDO-ALLDAYEVENT:FALSE
ORGANIZER: MAILTO:justice-violencestudies@exeter.ac.uk
ATTACH: http://www.exeter.ac.uk/events/details/?event=14211
DTSTAMP:20240923T165818
LOCATION:Room 105
DESCRIPTION; CHARSET=UTF-8 :The Justice and Violence Studies @ Exeter Research Network and EXCEPT (Exeter Centre for Ethics and Practical Theology) in CAHRT are pleased to invite you to this first of four co-hosted seminarshttp://www.exeter.ac.uk/events/details/?event=14211
SEQUENCE:0
PRIORITY:5
CLASS:
STATUS:CONFIRMED
TRANSP:TRANSPARENT
X-MICROSOFT-CDO-IMPORTANCE:1
X-Microsoft-CDO-BUSYSTATUS:FREE
X-MICROSOFT-CDO-INSTTYPE:0
X-Microsoft-CDO-INTENDEDSTATUS:FREE
END:VEVENT
END:VCALENDAR