BEGIN:VCALENDAR
PRODID: University of Exeter
VERSION:2.0
BEGIN:VTIMEZONE
TZID:Europe/London
X-LIC-LOCATION:Europe/London
BEGIN:DAYLIGHT
TZOFFSETFROM:+0000
TZOFFSETTO:+0100
TZNAME:BST
DTSTART:20240523T140000
RRULE:FREQ=YEARLY;BYDAY=-1SU;BYMONTH=3
END:DAYLIGHT
BEGIN:STANDARD
TZOFFSETFROM:+0100
TZOFFSETTO:+0000
TZNAME:GMT
DTSTART:20240523T140000
RRULE:FREQ=YEARLY;BYDAY=-1SU;BYMONTH=10
END:STANDARD
END:VTIMEZONE
METHOD:PUBLISH
BEGIN:VEVENT
SUMMARY; CHARSET=UTF-8 :SCI Project Showcase Series: Whiteness beyond the West
UID:exeter_event_14043
URL:http://www.exeter.ac.uk/events/details/?event=14043
DTSTART;VALUE=DATE:20240523T140000
DTEND;VALUE=DATE:20240523T150000
X-MICROSOFT-CDO-ALLDAYEVENT:FALSE
ORGANIZER: MAILTO:societiesandcultures@exeter.ac.uk
ATTACH: http://www.exeter.ac.uk/events/details/?event=14043
DTSTAMP:20240503T134455
LOCATION:Online via Teams
DESCRIPTION; CHARSET=UTF-8 :Over the last decade, with the rise of populist authoritarian nationalisms across the world, a much more explicit politics of whiteness and racial supremacy has returned to the public sphere. This has happened across the world - from the Middle East/North Africa to South Asia, South America and Eastern Europe/ Russia. Through SCI funding, we have built a network of scholars addressing this widespread revival of â€˜whiteness beyond the Westâ€™. James Mark will discuss what is politically at stake in these revivals; the uses of â€˜white innocenceâ€™; and the importance of history and memory to these racial myths that often underpin contemporary authoritarian turns.http://www.exeter.ac.uk/events/details/?event=14043
SEQUENCE:0
PRIORITY:5
CLASS:
STATUS:CONFIRMED
TRANSP:TRANSPARENT
X-MICROSOFT-CDO-IMPORTANCE:1
X-Microsoft-CDO-BUSYSTATUS:FREE
X-MICROSOFT-CDO-INSTTYPE:0
X-Microsoft-CDO-INTENDEDSTATUS:FREE
END:VEVENT
END:VCALENDAR