BEGIN:VCALENDAR
PRODID: University of Exeter
VERSION:2.0
BEGIN:VTIMEZONE
TZID:Europe/London
X-LIC-LOCATION:Europe/London
BEGIN:DAYLIGHT
TZOFFSETFROM:+0000
TZOFFSETTO:+0100
TZNAME:BST
DTSTART:20240426T120000
RRULE:FREQ=YEARLY;BYDAY=-1SU;BYMONTH=3
END:DAYLIGHT
BEGIN:STANDARD
TZOFFSETFROM:+0100
TZOFFSETTO:+0000
TZNAME:GMT
DTSTART:20240426T120000
RRULE:FREQ=YEARLY;BYDAY=-1SU;BYMONTH=10
END:STANDARD
END:VTIMEZONE
METHOD:PUBLISH
BEGIN:VEVENT
SUMMARY; CHARSET=UTF-8 :EBN Seminar: Prof. Wendy Noble and Dr Alex Shaw
UID:exeter_event_13931
URL:http://www.exeter.ac.uk/events/details/?event=13931
DTSTART;VALUE=DATE:20240426T120000
DTEND;VALUE=DATE:20240426T130000
X-MICROSOFT-CDO-ALLDAYEVENT:FALSE
ORGANIZER: MAILTO:
ATTACH: http://www.exeter.ac.uk/events/details/?event=13931
DTSTAMP:20240423T082929
LOCATION:Baring Court, Room 114
DESCRIPTION; CHARSET=UTF-8 : 
We have two amazing talks scheduled for 12 pm on 26th April at St Lukes in Baring Court 114.

Dr. Alex Shaw
&#34;M/EEG, Drugs and Computational Modelling: an approach towards the identification of neurobiological mechanisms & targets in depression (and beyond).&#34;

Prof. Wendy Noble
&#34;Elucidating the contribution of astrocytes to tau pathology in neurodegenerative diseases&#34;

As before, we will have pizza and soft drinks for lunch. 
Hope to see you all there.

http://www.exeter.ac.uk/events/details/?event=13931
SEQUENCE:0
PRIORITY:5
CLASS:
STATUS:CONFIRMED
TRANSP:TRANSPARENT
X-MICROSOFT-CDO-IMPORTANCE:1
X-Microsoft-CDO-BUSYSTATUS:FREE
X-MICROSOFT-CDO-INSTTYPE:0
X-Microsoft-CDO-INTENDEDSTATUS:FREE
END:VEVENT
END:VCALENDAR