BEGIN:VCALENDAR
PRODID: University of Exeter
VERSION:2.0
BEGIN:VTIMEZONE
TZID:Europe/London
X-LIC-LOCATION:Europe/London
BEGIN:DAYLIGHT
TZOFFSETFROM:+0000
TZOFFSETTO:+0100
TZNAME:BST
DTSTART:20240319T103000
RRULE:FREQ=YEARLY;BYDAY=-1SU;BYMONTH=3
END:DAYLIGHT
BEGIN:STANDARD
TZOFFSETFROM:+0100
TZOFFSETTO:+0000
TZNAME:GMT
DTSTART:20240319T103000
RRULE:FREQ=YEARLY;BYDAY=-1SU;BYMONTH=10
END:STANDARD
END:VTIMEZONE
METHOD:PUBLISH
BEGIN:VEVENT
SUMMARY; CHARSET=UTF-8 :Precisely Interfacing with the Human Brain at Scale
UID:exeter_event_13868
URL:http://www.exeter.ac.uk/events/details/?event=13868
DTSTART;VALUE=DATE:20240319T103000
DTEND;VALUE=DATE:20240319T133000
X-MICROSOFT-CDO-ALLDAYEVENT:FALSE
ORGANIZER: MAILTO:
ATTACH: http://www.exeter.ac.uk/events/details/?event=13868
DTSTAMP:20240311T173657
LOCATION:LSI
DESCRIPTION; CHARSET=UTF-8 :Special event with Jacques Carolan, Programme Director of the ARIA Opportunity Space  https://www.aria.org.uk/what-were-working-on/#jacques 

The day will feature a series of flash talks, including one from Jacques himself, followed by a networking lunch at the LSI.
This visit is a great opportunity to showcase the great work in Exeter aligned with Jacques&#39; Opportunity Space: &#34;Precisely interfacing with the human brain at scale&#34; (www.aria.org.uk/wp-content/uploads/2023/12/ARIA-Precisely-interfacing-with-the-human-brain-v1.0.pdf). ARIA Funding opportunities in this space will be outlined in March this year, so Jacques&#39; visit represents an ideal opportunity to shape what these might look like.

This event provides an opportunity to showcase your active and prospective research in this area, and to network with Jacques and other researchers in Exeter.

The schedule comprises:
10.30-12.00 Talks
12.00-13.30 Lunch & Networking






http://www.exeter.ac.uk/events/details/?event=13868
SEQUENCE:0
PRIORITY:5
CLASS:
STATUS:CONFIRMED
TRANSP:TRANSPARENT
X-MICROSOFT-CDO-IMPORTANCE:1
X-Microsoft-CDO-BUSYSTATUS:FREE
X-MICROSOFT-CDO-INSTTYPE:0
X-Microsoft-CDO-INTENDEDSTATUS:FREE
END:VEVENT
END:VCALENDAR