BEGIN:VCALENDAR
PRODID: University of Exeter
VERSION:2.0
BEGIN:VTIMEZONE
TZID:Europe/London
X-LIC-LOCATION:Europe/London
BEGIN:DAYLIGHT
TZOFFSETFROM:+0000
TZOFFSETTO:+0100
TZNAME:BST
DTSTART:20231201T113000
RRULE:FREQ=YEARLY;BYDAY=-1SU;BYMONTH=3
END:DAYLIGHT
BEGIN:STANDARD
TZOFFSETFROM:+0100
TZOFFSETTO:+0000
TZNAME:GMT
DTSTART:20231201T113000
RRULE:FREQ=YEARLY;BYDAY=-1SU;BYMONTH=10
END:STANDARD
END:VTIMEZONE
METHOD:PUBLISH
BEGIN:VEVENT
SUMMARY; CHARSET=UTF-8 :Data Enclaves, Biobank-level Data Management and Leveraging Deep Learning (but only when necessary!)
UID:exeter_event_13481
URL:http://www.exeter.ac.uk/events/details/?event=13481
DTSTART;VALUE=DATE:20231201T113000
DTEND;VALUE=DATE:20231201T123000
X-MICROSOFT-CDO-ALLDAYEVENT:FALSE
ORGANIZER: MAILTO:
ATTACH: http://www.exeter.ac.uk/events/details/?event=13481
DTSTAMP:20231129T094317
LOCATION:Baring Court 112
DESCRIPTION; CHARSET=UTF-8 :This webinar will discuss how to think abut and implement analysis on and across multimodal data enclaves, such as UK Biobank Research Analysis Platform (UKB-RAP). It will further discuss what types of models are appropriate for various analyses, particularly issues to consider when implementing transformer models.http://www.exeter.ac.uk/events/details/?event=13481
SEQUENCE:0
PRIORITY:5
CLASS:
STATUS:CONFIRMED
TRANSP:TRANSPARENT
X-MICROSOFT-CDO-IMPORTANCE:1
X-Microsoft-CDO-BUSYSTATUS:FREE
X-MICROSOFT-CDO-INSTTYPE:0
X-Microsoft-CDO-INTENDEDSTATUS:FREE
END:VEVENT
END:VCALENDAR