BEGIN:VCALENDAR
PRODID: University of Exeter
VERSION:2.0
BEGIN:VTIMEZONE
TZID:Europe/London
X-LIC-LOCATION:Europe/London
BEGIN:DAYLIGHT
TZOFFSETFROM:+0000
TZOFFSETTO:+0100
TZNAME:BST
DTSTART:20231212T113000
RRULE:FREQ=YEARLY;BYDAY=-1SU;BYMONTH=3
END:DAYLIGHT
BEGIN:STANDARD
TZOFFSETFROM:+0100
TZOFFSETTO:+0000
TZNAME:GMT
DTSTART:20231212T113000
RRULE:FREQ=YEARLY;BYDAY=-1SU;BYMONTH=10
END:STANDARD
END:VTIMEZONE
METHOD:PUBLISH
BEGIN:VEVENT
SUMMARY; CHARSET=UTF-8 :AHRC Hustings: Early-stage Proposals
UID:exeter_event_13461
URL:http://www.exeter.ac.uk/events/details/?event=13461
DTSTART;VALUE=DATE:20231212T113000
DTEND;VALUE=DATE:20231212T130000
X-MICROSOFT-CDO-ALLDAYEVENT:FALSE
ORGANIZER: MAILTO:societiesandcultures@exeter.ac.uk
ATTACH: http://www.exeter.ac.uk/events/details/?event=13461
DTSTAMP:20231205T165121
LOCATION:Digital Humanities Seminar Room 1
DESCRIPTION; CHARSET=UTF-8 :This event is an opportunity for researchers with early-stage grant proposals to present their project to an audience of academics and professional services staff.
The audience will then provide constructive feedback in the hope of increasing the chances of a successful application.
This is a great opportunity for any academic, particularly ECRs, to gain support and advice from senior colleagues. A focus will be on the UKRI&#39;s new Catalyst and Curiosity Award schemes, though proposals for any AHRC grant will be considered for presentation.
http://www.exeter.ac.uk/events/details/?event=13461
SEQUENCE:0
PRIORITY:5
CLASS:
STATUS:CONFIRMED
TRANSP:TRANSPARENT
X-MICROSOFT-CDO-IMPORTANCE:1
X-Microsoft-CDO-BUSYSTATUS:FREE
X-MICROSOFT-CDO-INSTTYPE:0
X-Microsoft-CDO-INTENDEDSTATUS:FREE
END:VEVENT
END:VCALENDAR