BEGIN:VCALENDAR
PRODID: University of Exeter
VERSION:2.0
BEGIN:VTIMEZONE
TZID:Europe/London
X-LIC-LOCATION:Europe/London
BEGIN:DAYLIGHT
TZOFFSETFROM:+0000
TZOFFSETTO:+0100
TZNAME:BST
DTSTART:20231106T160000
RRULE:FREQ=YEARLY;BYDAY=-1SU;BYMONTH=3
END:DAYLIGHT
BEGIN:STANDARD
TZOFFSETFROM:+0100
TZOFFSETTO:+0000
TZNAME:GMT
DTSTART:20231106T160000
RRULE:FREQ=YEARLY;BYDAY=-1SU;BYMONTH=10
END:STANDARD
END:VTIMEZONE
METHOD:PUBLISH
BEGIN:VEVENT
SUMMARY; CHARSET=UTF-8 :Professor Geeta Patel: In Conversation
UID:exeter_event_13354
URL:http://www.exeter.ac.uk/events/details/?event=13354
DTSTART;VALUE=DATE:20231106T160000
DTEND;VALUE=DATE:20231106T173000
X-MICROSOFT-CDO-ALLDAYEVENT:FALSE
ORGANIZER: MAILTO:societiesandcultures@exeter.ac.uk
ATTACH: http://www.exeter.ac.uk/events/details/?event=13354
DTSTAMP:20231025T105244
LOCATION:Common Room
DESCRIPTION; CHARSET=UTF-8 :This PGR/ECR event is a chance to meet Professor Geeta Patel (Professor of Middle Eastern and South Asian Languages and Cultures, University of Virginia) and listen as she discusses her research, which focusses on the themes of decolonisation, gender, sexuality and finances. There will also be an opportunity for a Q&A.http://www.exeter.ac.uk/events/details/?event=13354
SEQUENCE:0
PRIORITY:5
CLASS:
STATUS:CONFIRMED
TRANSP:TRANSPARENT
X-MICROSOFT-CDO-IMPORTANCE:1
X-Microsoft-CDO-BUSYSTATUS:FREE
X-MICROSOFT-CDO-INSTTYPE:0
X-Microsoft-CDO-INTENDEDSTATUS:FREE
END:VEVENT
END:VCALENDAR