BEGIN:VCALENDAR
PRODID: University of Exeter
VERSION:2.0
BEGIN:VTIMEZONE
TZID:Europe/London
X-LIC-LOCATION:Europe/London
BEGIN:DAYLIGHT
TZOFFSETFROM:+0000
TZOFFSETTO:+0100
TZNAME:BST
DTSTART:20231011T160000
RRULE:FREQ=YEARLY;BYDAY=-1SU;BYMONTH=3
END:DAYLIGHT
BEGIN:STANDARD
TZOFFSETFROM:+0100
TZOFFSETTO:+0000
TZNAME:GMT
DTSTART:20231011T160000
RRULE:FREQ=YEARLY;BYDAY=-1SU;BYMONTH=10
END:STANDARD
END:VTIMEZONE
METHOD:PUBLISH
BEGIN:VEVENT
SUMMARY; CHARSET=UTF-8 :Routes Conversation: Land ownership, public access and the right to roam
UID:exeter_event_13267
URL:http://www.exeter.ac.uk/events/details/?event=13267
DTSTART;VALUE=DATE:20231011T160000
DTEND;VALUE=DATE:20231011T170000
X-MICROSOFT-CDO-ALLDAYEVENT:FALSE
ORGANIZER: MAILTO:
ATTACH: http://www.exeter.ac.uk/events/details/?event=13267
DTSTAMP:20231005T111952
LOCATION:Online via Zoom
DESCRIPTION; CHARSET=UTF-8 :The Routes network is delighted to host  Dr. Lewis Winks for our next Routes Conversation on Land Ownership, Public Access and the Right to Roam. The conversation will be held via Zoom, from 4-5pm. Please join us for what should be a stimulating discussion!http://www.exeter.ac.uk/events/details/?event=13267
SEQUENCE:0
PRIORITY:5
CLASS:
STATUS:CONFIRMED
TRANSP:TRANSPARENT
X-MICROSOFT-CDO-IMPORTANCE:1
X-Microsoft-CDO-BUSYSTATUS:FREE
X-MICROSOFT-CDO-INSTTYPE:0
X-Microsoft-CDO-INTENDEDSTATUS:FREE
END:VEVENT
END:VCALENDAR