BEGIN:VCALENDAR
PRODID: University of Exeter
VERSION:2.0
BEGIN:VTIMEZONE
TZID:Europe/London
X-LIC-LOCATION:Europe/London
BEGIN:DAYLIGHT
TZOFFSETFROM:+0000
TZOFFSETTO:+0100
TZNAME:BST
DTSTART:20231023T123000
RRULE:FREQ=YEARLY;BYDAY=-1SU;BYMONTH=3
END:DAYLIGHT
BEGIN:STANDARD
TZOFFSETFROM:+0100
TZOFFSETTO:+0000
TZNAME:GMT
DTSTART:20231023T123000
RRULE:FREQ=YEARLY;BYDAY=-1SU;BYMONTH=10
END:STANDARD
END:VTIMEZONE
METHOD:PUBLISH
BEGIN:VEVENT
SUMMARY; CHARSET=UTF-8 :SCI Engaging with Policy workshop
UID:exeter_event_13266
URL:http://www.exeter.ac.uk/events/details/?event=13266
DTSTART;VALUE=DATE:20231023T123000
DTEND;VALUE=DATE:20231023T143000
X-MICROSOFT-CDO-ALLDAYEVENT:FALSE
ORGANIZER: MAILTO:
ATTACH: http://www.exeter.ac.uk/events/details/?event=13266
DTSTAMP:20231011T104319
LOCATION:Digital Humanities Seminar Room 1
DESCRIPTION; CHARSET=UTF-8 :Join Professor Pascale Aebischer, Professor of Shakespeare and Early Modern Performance Studies and former Lead of Pandemic & Beyond, and Marina Altoe, Policy Engagement Manager at Policy@Exeter, to explore how your research can influence policymaking. The workshop will explore the policymaking process, how to embed policy engagement from the start of your research project, and will conclude with a quick stakeholder mapping exercise. This workshop is aimed at researchers in arts and humanities who are at the start of their policy engagement journey â€“ no prior experience needed.

Agenda:

12.30 Welcome & Introductions

12.45 What is policy and how policymaking works in practice

13.15 How to embed policy engagement from the start of your research project (incl. working lunch)

14.00 Stakeholder mapping exercise & next steps

14.30 Wrap uphttp://www.exeter.ac.uk/events/details/?event=13266
SEQUENCE:0
PRIORITY:5
CLASS:
STATUS:CONFIRMED
TRANSP:TRANSPARENT
X-MICROSOFT-CDO-IMPORTANCE:1
X-Microsoft-CDO-BUSYSTATUS:FREE
X-MICROSOFT-CDO-INSTTYPE:0
X-Microsoft-CDO-INTENDEDSTATUS:FREE
END:VEVENT
END:VCALENDAR