BEGIN:VCALENDAR
PRODID: University of Exeter
VERSION:2.0
BEGIN:VTIMEZONE
TZID:Europe/London
X-LIC-LOCATION:Europe/London
BEGIN:DAYLIGHT
TZOFFSETFROM:+0000
TZOFFSETTO:+0100
TZNAME:BST
DTSTART:20231004T100000
RRULE:FREQ=YEARLY;BYDAY=-1SU;BYMONTH=3
END:DAYLIGHT
BEGIN:STANDARD
TZOFFSETFROM:+0100
TZOFFSETTO:+0000
TZNAME:GMT
DTSTART:20231004T100000
RRULE:FREQ=YEARLY;BYDAY=-1SU;BYMONTH=10
END:STANDARD
END:VTIMEZONE
METHOD:PUBLISH
BEGIN:VEVENT
SUMMARY; CHARSET=UTF-8 :AHRC Hustings
UID:exeter_event_13217
URL:http://www.exeter.ac.uk/events/details/?event=13217
DTSTART;VALUE=DATE:20231004T100000
DTEND;VALUE=DATE:20231004T113000
X-MICROSOFT-CDO-ALLDAYEVENT:FALSE
ORGANIZER: MAILTO:societiesandcultures@exeter.ac.uk
ATTACH: http://www.exeter.ac.uk/events/details/?event=13217
DTSTAMP:20230928T135204
LOCATION:Knightley
DESCRIPTION; CHARSET=UTF-8 :The Societies and Cultures Institute (SCI) is hosting an Hustings event for researchers with projects in development for this year&#39;s AHRC call deadlines. The researchers will present their project to an audience of academics and professional services staff who will then provide constructive feedback in the hope of increasing the chances of a successful application.http://www.exeter.ac.uk/events/details/?event=13217
SEQUENCE:0
PRIORITY:5
CLASS:
STATUS:CONFIRMED
TRANSP:TRANSPARENT
X-MICROSOFT-CDO-IMPORTANCE:1
X-Microsoft-CDO-BUSYSTATUS:FREE
X-MICROSOFT-CDO-INSTTYPE:0
X-Microsoft-CDO-INTENDEDSTATUS:FREE
END:VEVENT
END:VCALENDAR