BEGIN:VCALENDAR
PRODID: University of Exeter
VERSION:2.0
BEGIN:VTIMEZONE
TZID:Europe/London
X-LIC-LOCATION:Europe/London
BEGIN:DAYLIGHT
TZOFFSETFROM:+0000
TZOFFSETTO:+0100
TZNAME:BST
DTSTART:20230623T130000
RRULE:FREQ=YEARLY;BYDAY=-1SU;BYMONTH=3
END:DAYLIGHT
BEGIN:STANDARD
TZOFFSETFROM:+0100
TZOFFSETTO:+0000
TZNAME:GMT
DTSTART:20230623T130000
RRULE:FREQ=YEARLY;BYDAY=-1SU;BYMONTH=10
END:STANDARD
END:VTIMEZONE
METHOD:PUBLISH
BEGIN:VEVENT
SUMMARY; CHARSET=UTF-8 :Displacement and Access to Education&#39;: connecting and co-producing knowledge across the UK and Canada
UID:exeter_event_13050
URL:http://www.exeter.ac.uk/events/details/?event=13050
DTSTART;VALUE=DATE:20230623T130000
DTEND;VALUE=DATE:20230623T143000
X-MICROSOFT-CDO-ALLDAYEVENT:FALSE
ORGANIZER: MAILTO:
ATTACH: http://www.exeter.ac.uk/events/details/?event=13050
DTSTAMP:20230609T163304
LOCATION:Amory C501
DESCRIPTION; CHARSET=UTF-8 :During this event Tanya Aberman and Rebecca Murray will engage in conversation about the parallel work they have undertaken to date, as campaigners, practitioners and academics in Canada and the UK.http://www.exeter.ac.uk/events/details/?event=13050
SEQUENCE:0
PRIORITY:5
CLASS:
STATUS:CONFIRMED
TRANSP:TRANSPARENT
X-MICROSOFT-CDO-IMPORTANCE:1
X-Microsoft-CDO-BUSYSTATUS:FREE
X-MICROSOFT-CDO-INSTTYPE:0
X-Microsoft-CDO-INTENDEDSTATUS:FREE
END:VEVENT
END:VCALENDAR