BEGIN:VCALENDAR
PRODID: University of Exeter
VERSION:2.0
BEGIN:VTIMEZONE
TZID:Europe/London
X-LIC-LOCATION:Europe/London
BEGIN:DAYLIGHT
TZOFFSETFROM:+0000
TZOFFSETTO:+0100
TZNAME:BST
DTSTART:20230324T130000
RRULE:FREQ=YEARLY;BYDAY=-1SU;BYMONTH=3
END:DAYLIGHT
BEGIN:STANDARD
TZOFFSETFROM:+0100
TZOFFSETTO:+0000
TZNAME:GMT
DTSTART:20230324T130000
RRULE:FREQ=YEARLY;BYDAY=-1SU;BYMONTH=10
END:STANDARD
END:VTIMEZONE
METHOD:PUBLISH
BEGIN:VEVENT
SUMMARY; CHARSET=UTF-8 :Working Conditions for International Medical Graduates: A Roundtable Discussion
UID:exeter_event_12844
URL:http://www.exeter.ac.uk/events/details/?event=12844
DTSTART;VALUE=DATE:20230324T130000
DTEND;VALUE=DATE:20230324T140000
X-MICROSOFT-CDO-ALLDAYEVENT:FALSE
ORGANIZER: MAILTO:
ATTACH: http://www.exeter.ac.uk/events/details/?event=12844
DTSTAMP:20230313T105031
LOCATION:Join via Zoom using the below details
DESCRIPTION; CHARSET=UTF-8 :On 24th March, Routes is hosting a roundtable discussion on the question What are the major challenges faced by international medical graduates working in the UK public and private healthcare sectors, and how can we respond to them? http://www.exeter.ac.uk/events/details/?event=12844
SEQUENCE:0
PRIORITY:5
CLASS:
STATUS:CONFIRMED
TRANSP:TRANSPARENT
X-MICROSOFT-CDO-IMPORTANCE:1
X-Microsoft-CDO-BUSYSTATUS:FREE
X-MICROSOFT-CDO-INSTTYPE:0
X-Microsoft-CDO-INTENDEDSTATUS:FREE
END:VEVENT
END:VCALENDAR