BEGIN:VCALENDAR
PRODID: University of Exeter
VERSION:2.0
BEGIN:VTIMEZONE
TZID:Europe/London
X-LIC-LOCATION:Europe/London
BEGIN:DAYLIGHT
TZOFFSETFROM:+0000
TZOFFSETTO:+0100
TZNAME:BST
DTSTART:20230215T140000
RRULE:FREQ=YEARLY;BYDAY=-1SU;BYMONTH=3
END:DAYLIGHT
BEGIN:STANDARD
TZOFFSETFROM:+0100
TZOFFSETTO:+0000
TZNAME:GMT
DTSTART:20230215T140000
RRULE:FREQ=YEARLY;BYDAY=-1SU;BYMONTH=10
END:STANDARD
END:VTIMEZONE
METHOD:PUBLISH
BEGIN:VEVENT
SUMMARY; CHARSET=UTF-8 :Developing data science and AI from a public sector perspective: the Turing Public Policy Programme with Helen Margetts OBE, Professor of Society and the Internet and Director of the Public Policy Programme at the Alan Turing Institute
UID:exeter_event_12697
URL:http://www.exeter.ac.uk/events/details/?event=12697
DTSTART;VALUE=DATE:20230215T140000
DTEND;VALUE=DATE:20230215T150000
X-MICROSOFT-CDO-ALLDAYEVENT:FALSE
ORGANIZER: MAILTO:
ATTACH: http://www.exeter.ac.uk/events/details/?event=12697
DTSTAMP:20230127T162823
LOCATION:Newman Collaborative Lecture Theatre (C/D)
DESCRIPTION; CHARSET=UTF-8 :Most Data Science and Artificial Intelligence (DSAI) methodologies and tools are developed by the private sector, for the private sector. This talk discusses these data-powered technologies from a public sector perspective. http://www.exeter.ac.uk/events/details/?event=12697
SEQUENCE:0
PRIORITY:5
CLASS:
STATUS:CONFIRMED
TRANSP:TRANSPARENT
X-MICROSOFT-CDO-IMPORTANCE:1
X-Microsoft-CDO-BUSYSTATUS:FREE
X-MICROSOFT-CDO-INSTTYPE:0
X-Microsoft-CDO-INTENDEDSTATUS:FREE
END:VEVENT
END:VCALENDAR