BEGIN:VCALENDAR
PRODID: University of Exeter
VERSION:2.0
BEGIN:VTIMEZONE
TZID:Europe/London
X-LIC-LOCATION:Europe/London
BEGIN:DAYLIGHT
TZOFFSETFROM:+0000
TZOFFSETTO:+0100
TZNAME:BST
DTSTART:20230109T090000
RRULE:FREQ=YEARLY;BYDAY=-1SU;BYMONTH=3
END:DAYLIGHT
BEGIN:STANDARD
TZOFFSETFROM:+0100
TZOFFSETTO:+0000
TZNAME:GMT
DTSTART:20230109T090000
RRULE:FREQ=YEARLY;BYDAY=-1SU;BYMONTH=10
END:STANDARD
END:VTIMEZONE
METHOD:PUBLISH
BEGIN:VEVENT
SUMMARY; CHARSET=UTF-8 :University of Exeter Digital Societies: The future of social media platforms
UID:exeter_event_12582
URL:http://www.exeter.ac.uk/events/details/?event=12582
DTSTART;VALUE=DATE:20230109T090000
DTEND;VALUE=DATE:20230109T170000
X-MICROSOFT-CDO-ALLDAYEVENT:FALSE
ORGANIZER: MAILTO:digitalsocieties@exeter.ac.uk
ATTACH: http://www.exeter.ac.uk/events/details/?event=12582
DTSTAMP:20221216T081659
LOCATION:Building:One Constantine LeventisTeaching Room
DESCRIPTION; CHARSET=UTF-8 :The University of Exeterâ€™s Digital Societies Growhouse Programme is designed to stimulate creative, mutually beneficial, innovative and impactful partnerships between external organisations and interdisciplinary groups of researchers. The Programmeâ€™s aim is to create a space which fosters disruptive, creative, impactful, interdisciplinary collaborations which will forge and inform the fair, justice-focused and ethical digital societies of the future.http://www.exeter.ac.uk/events/details/?event=12582
SEQUENCE:0
PRIORITY:5
CLASS:
STATUS:CONFIRMED
TRANSP:TRANSPARENT
X-MICROSOFT-CDO-IMPORTANCE:1
X-Microsoft-CDO-BUSYSTATUS:FREE
X-MICROSOFT-CDO-INSTTYPE:0
X-Microsoft-CDO-INTENDEDSTATUS:FREE
END:VEVENT
END:VCALENDAR