BEGIN:VCALENDAR
PRODID: University of Exeter
VERSION:2.0
BEGIN:VTIMEZONE
TZID:Europe/London
X-LIC-LOCATION:Europe/London
BEGIN:DAYLIGHT
TZOFFSETFROM:+0000
TZOFFSETTO:+0100
TZNAME:BST
DTSTART:20230112T140000
RRULE:FREQ=YEARLY;BYDAY=-1SU;BYMONTH=3
END:DAYLIGHT
BEGIN:STANDARD
TZOFFSETFROM:+0100
TZOFFSETTO:+0000
TZNAME:GMT
DTSTART:20230112T140000
RRULE:FREQ=YEARLY;BYDAY=-1SU;BYMONTH=10
END:STANDARD
END:VTIMEZONE
METHOD:PUBLISH
BEGIN:VEVENT
SUMMARY; CHARSET=UTF-8 :Geological mapping in the age of Artificial Intelligence with Dr Charlie Kirkwood (IDSAI)
UID:exeter_event_12562
URL:http://www.exeter.ac.uk/events/details/?event=12562
DTSTART;VALUE=DATE:20230112T140000
DTEND;VALUE=DATE:20230112T150000
X-MICROSOFT-CDO-ALLDAYEVENT:FALSE
ORGANIZER: MAILTO:
ATTACH: http://www.exeter.ac.uk/events/details/?event=12562
DTSTAMP:20221216T170749
LOCATION:Building:One Constantine LeventisTeaching Room
DESCRIPTION; CHARSET=UTF-8 :200 years since the publication of Britainâ€™s first geological map by William Smith in 1815, our official geological maps - and those of geological surveys around the world - continue to be produced by a process of mental modelling and hand-drawing, in which polygons are drawn around parcels of rock that are deemed sufficiently self-similar to be classed as distinct units. http://www.exeter.ac.uk/events/details/?event=12562
SEQUENCE:0
PRIORITY:5
CLASS:
STATUS:CONFIRMED
TRANSP:TRANSPARENT
X-MICROSOFT-CDO-IMPORTANCE:1
X-Microsoft-CDO-BUSYSTATUS:FREE
X-MICROSOFT-CDO-INSTTYPE:0
X-Microsoft-CDO-INTENDEDSTATUS:FREE
END:VEVENT
END:VCALENDAR