BEGIN:VCALENDAR
PRODID: University of Exeter
VERSION:2.0
BEGIN:VTIMEZONE
TZID:Europe/London
X-LIC-LOCATION:Europe/London
BEGIN:DAYLIGHT
TZOFFSETFROM:+0000
TZOFFSETTO:+0100
TZNAME:BST
DTSTART:20221207T140000
RRULE:FREQ=YEARLY;BYDAY=-1SU;BYMONTH=3
END:DAYLIGHT
BEGIN:STANDARD
TZOFFSETFROM:+0100
TZOFFSETTO:+0000
TZNAME:GMT
DTSTART:20221207T140000
RRULE:FREQ=YEARLY;BYDAY=-1SU;BYMONTH=10
END:STANDARD
END:VTIMEZONE
METHOD:PUBLISH
BEGIN:VEVENT
SUMMARY; CHARSET=UTF-8 :Building a Social Media Belief Observatory by Professor Joshua Introne at School of Information Studies, Syracuse University
UID:exeter_event_12558
URL:http://www.exeter.ac.uk/events/details/?event=12558
DTSTART;VALUE=DATE:20221207T140000
DTEND;VALUE=DATE:20221207T150000
X-MICROSOFT-CDO-ALLDAYEVENT:FALSE
ORGANIZER: MAILTO:
ATTACH: http://www.exeter.ac.uk/events/details/?event=12558
DTSTAMP:20221202T091814
LOCATION:To be delivered by Zoom
DESCRIPTION; CHARSET=UTF-8 :There is continuing concern that online problems like toxicity, extremism, misinformation, and polarization are indicators of deeper societal ills, and moreover, that mediating technologies exacerbate these social problems. Research has focused on specific challenges, like detecting, suppressing, and correcting misinformation, or preventing toxicity. However, the various pernicious online phenomena that have drawn research attention are all at some level connected to beliefs, and might be usefully examined as a particular type of belief dynamics.http://www.exeter.ac.uk/events/details/?event=12558
SEQUENCE:0
PRIORITY:5
CLASS:
STATUS:CONFIRMED
TRANSP:TRANSPARENT
X-MICROSOFT-CDO-IMPORTANCE:1
X-Microsoft-CDO-BUSYSTATUS:FREE
X-MICROSOFT-CDO-INSTTYPE:0
X-Microsoft-CDO-INTENDEDSTATUS:FREE
END:VEVENT
END:VCALENDAR