BEGIN:VCALENDAR
PRODID: University of Exeter
VERSION:2.0
BEGIN:VTIMEZONE
TZID:Europe/London
X-LIC-LOCATION:Europe/London
BEGIN:DAYLIGHT
TZOFFSETFROM:+0000
TZOFFSETTO:+0100
TZNAME:BST
DTSTART:20221117T140000
RRULE:FREQ=YEARLY;BYDAY=-1SU;BYMONTH=3
END:DAYLIGHT
BEGIN:STANDARD
TZOFFSETFROM:+0100
TZOFFSETTO:+0000
TZNAME:GMT
DTSTART:20221117T140000
RRULE:FREQ=YEARLY;BYDAY=-1SU;BYMONTH=10
END:STANDARD
END:VTIMEZONE
METHOD:PUBLISH
BEGIN:VEVENT
SUMMARY; CHARSET=UTF-8 :Bipartite attitude networks: a Method for Exploring Opinion-Based Groups, Group-Based Opinions, and Social Polarization by Professor Michael Quayle at University of Limerick
UID:exeter_event_12501
URL:http://www.exeter.ac.uk/events/details/?event=12501
DTSTART;VALUE=DATE:20221117T140000
DTEND;VALUE=DATE:20221117T150000
X-MICROSOFT-CDO-ALLDAYEVENT:FALSE
ORGANIZER: MAILTO:
ATTACH: http://www.exeter.ac.uk/events/details/?event=12501
DTSTAMP:20221103T160327
LOCATION:XFI Conference Room 1
DESCRIPTION; CHARSET=UTF-8 :I introduce a network-based approach to modelling attitude-based groups as bipartite networks, where people are linked by the attitudes they jointly hold, and attitudes become socially connected when jointly held by people. This structure simultaneously links people into groups and attitudes into meaningful clusters. With examples from opinion-surveys, social-media, and simulations, I show how group structure emerges in this &#34;attitude space&#34;, and how people are located in it.  http://www.exeter.ac.uk/events/details/?event=12501
SEQUENCE:0
PRIORITY:5
CLASS:
STATUS:CONFIRMED
TRANSP:TRANSPARENT
X-MICROSOFT-CDO-IMPORTANCE:1
X-Microsoft-CDO-BUSYSTATUS:FREE
X-MICROSOFT-CDO-INSTTYPE:0
X-Microsoft-CDO-INTENDEDSTATUS:FREE
END:VEVENT
END:VCALENDAR