BEGIN:VCALENDAR
PRODID: University of Exeter
VERSION:2.0
BEGIN:VTIMEZONE
TZID:Europe/London
X-LIC-LOCATION:Europe/London
BEGIN:DAYLIGHT
TZOFFSETFROM:+0000
TZOFFSETTO:+0100
TZNAME:BST
DTSTART:20221012T140000
RRULE:FREQ=YEARLY;BYDAY=-1SU;BYMONTH=3
END:DAYLIGHT
BEGIN:STANDARD
TZOFFSETFROM:+0100
TZOFFSETTO:+0000
TZNAME:GMT
DTSTART:20221012T140000
RRULE:FREQ=YEARLY;BYDAY=-1SU;BYMONTH=10
END:STANDARD
END:VTIMEZONE
METHOD:PUBLISH
BEGIN:VEVENT
SUMMARY; CHARSET=UTF-8 :Deep-learning detection of harmful algal blooms by Dr David Moffat, PML
UID:exeter_event_12373
URL:http://www.exeter.ac.uk/events/details/?event=12373
DTSTART;VALUE=DATE:20221012T140000
DTEND;VALUE=DATE:20221012T150000
X-MICROSOFT-CDO-ALLDAYEVENT:FALSE
ORGANIZER: MAILTO:
ATTACH: http://www.exeter.ac.uk/events/details/?event=12373
DTSTAMP:20220930T122956
LOCATION:Building:One Marchant Syndicate Room A
DESCRIPTION; CHARSET=UTF-8 :The detrimental effects of harmful algal blooms (HABs) on the marine ecosystem, human health, and shellfish and aquaculture industry are well known. Anthropogenic activities have led to an increase in frequency, extent and magnitude of HAB activity.http://www.exeter.ac.uk/events/details/?event=12373
SEQUENCE:0
PRIORITY:5
CLASS:
STATUS:CONFIRMED
TRANSP:TRANSPARENT
X-MICROSOFT-CDO-IMPORTANCE:1
X-Microsoft-CDO-BUSYSTATUS:FREE
X-MICROSOFT-CDO-INSTTYPE:0
X-Microsoft-CDO-INTENDEDSTATUS:FREE
END:VEVENT
END:VCALENDAR