BEGIN:VCALENDAR
PRODID: University of Exeter
VERSION:2.0
BEGIN:VTIMEZONE
TZID:Europe/London
X-LIC-LOCATION:Europe/London
BEGIN:DAYLIGHT
TZOFFSETFROM:+0000
TZOFFSETTO:+0100
TZNAME:BST
DTSTART:20220928T140000
RRULE:FREQ=YEARLY;BYDAY=-1SU;BYMONTH=3
END:DAYLIGHT
BEGIN:STANDARD
TZOFFSETFROM:+0100
TZOFFSETTO:+0000
TZNAME:GMT
DTSTART:20220928T140000
RRULE:FREQ=YEARLY;BYDAY=-1SU;BYMONTH=10
END:STANDARD
END:VTIMEZONE
METHOD:PUBLISH
BEGIN:VEVENT
SUMMARY; CHARSET=UTF-8 :Using adjoint to accelerate inference in linear systems
UID:exeter_event_12344
URL:http://www.exeter.ac.uk/events/details/?event=12344
DTSTART;VALUE=DATE:20220928T140000
DTEND;VALUE=DATE:20220928T150000
X-MICROSOFT-CDO-ALLDAYEVENT:FALSE
ORGANIZER: MAILTO:
ATTACH: http://www.exeter.ac.uk/events/details/?event=12344
DTSTAMP:20220921T074414
LOCATION:Queens Building LT7.1
DESCRIPTION; CHARSET=UTF-8 :As part of this year&#39;s IDSAI Research Seminar Series, Richard Wilkinson, Professor of Statistics, Faculty of Science, University of Nottingham will be presenting on using adjoint to accelerate inference in linear systems.http://www.exeter.ac.uk/events/details/?event=12344
SEQUENCE:0
PRIORITY:5
CLASS:
STATUS:CONFIRMED
TRANSP:TRANSPARENT
X-MICROSOFT-CDO-IMPORTANCE:1
X-Microsoft-CDO-BUSYSTATUS:FREE
X-MICROSOFT-CDO-INSTTYPE:0
X-Microsoft-CDO-INTENDEDSTATUS:FREE
END:VEVENT
END:VCALENDAR