BEGIN:VCALENDAR
PRODID: University of Exeter
VERSION:2.0
BEGIN:VTIMEZONE
TZID:Europe/London
X-LIC-LOCATION:Europe/London
BEGIN:DAYLIGHT
TZOFFSETFROM:+0000
TZOFFSETTO:+0100
TZNAME:BST
DTSTART:20220630T180000
RRULE:FREQ=YEARLY;BYDAY=-1SU;BYMONTH=3
END:DAYLIGHT
BEGIN:STANDARD
TZOFFSETFROM:+0100
TZOFFSETTO:+0000
TZNAME:GMT
DTSTART:20220630T180000
RRULE:FREQ=YEARLY;BYDAY=-1SU;BYMONTH=10
END:STANDARD
END:VTIMEZONE
METHOD:PUBLISH
BEGIN:VEVENT
SUMMARY; CHARSET=UTF-8 :The Ethics of Artificial Intelligence
UID:exeter_event_12231
URL:http://www.exeter.ac.uk/events/details/?event=12231
DTSTART;VALUE=DATE:20220630T000000
DTEND;VALUE=DATE:20220701T235900
X-MICROSOFT-CDO-ALLDAYEVENT:TRUE
ORGANIZER: MAILTO:
ATTACH: http://www.exeter.ac.uk/events/details/?event=12231
DTSTAMP:20220606T161041
LOCATION:EX4 3LS
DESCRIPTION; CHARSET=UTF-8 :As Artificial Intelligence continues to impact many areas of our lives, weâ€™re bringing together a world leading group of experts from health, tech, philosophy, and academia to discuss ethical questions that must be confronted. From driverless cars to dementia treatment, how can we ensure machines do the right thing? Will they inherit our own biases and unfairness?http://www.exeter.ac.uk/events/details/?event=12231
SEQUENCE:0
PRIORITY:5
CLASS:
STATUS:CONFIRMED
TRANSP:TRANSPARENT
X-MICROSOFT-CDO-IMPORTANCE:1
X-Microsoft-CDO-BUSYSTATUS:FREE
X-MICROSOFT-CDO-INSTTYPE:0
X-Microsoft-CDO-INTENDEDSTATUS:FREE
END:VEVENT
END:VCALENDAR