BEGIN:VCALENDAR
PRODID: University of Exeter
VERSION:2.0
BEGIN:VTIMEZONE
TZID:Europe/London
X-LIC-LOCATION:Europe/London
BEGIN:DAYLIGHT
TZOFFSETFROM:+0000
TZOFFSETTO:+0100
TZNAME:BST
DTSTART:20210524T150000
RRULE:FREQ=YEARLY;BYDAY=-1SU;BYMONTH=3
END:DAYLIGHT
BEGIN:STANDARD
TZOFFSETFROM:+0100
TZOFFSETTO:+0000
TZNAME:GMT
DTSTART:20210524T150000
RRULE:FREQ=YEARLY;BYDAY=-1SU;BYMONTH=10
END:STANDARD
END:VTIMEZONE
METHOD:PUBLISH
BEGIN:VEVENT
SUMMARY; CHARSET=UTF-8 :Presenting the Turing Fellow Research Projects - Prof Peter Challenor: Uncertainty Quantification (UQ) for Black-Box Computational Models with Application to Machine Decisions
UID:exeter_event_11343
URL:http://www.exeter.ac.uk/events/details/?event=11343
DTSTART;VALUE=DATE:20210524T150000
DTEND;VALUE=DATE:20210524T155000
X-MICROSOFT-CDO-ALLDAYEVENT:FALSE
ORGANIZER: MAILTO:idsai@exeter.ac.uk
ATTACH: http://www.exeter.ac.uk/events/details/?event=11343
DTSTAMP:20210603T131004
LOCATION:Online Event
DESCRIPTION; CHARSET=UTF-8 :PLEASE CLICK THIS LINK TO REGISTERhttp://www.exeter.ac.uk/events/details/?event=11343
SEQUENCE:0
PRIORITY:5
CLASS:
STATUS:CONFIRMED
TRANSP:TRANSPARENT
X-MICROSOFT-CDO-IMPORTANCE:1
X-Microsoft-CDO-BUSYSTATUS:FREE
X-MICROSOFT-CDO-INSTTYPE:0
X-Microsoft-CDO-INTENDEDSTATUS:FREE
END:VEVENT
END:VCALENDAR