BEGIN:VCALENDAR
PRODID: University of Exeter
VERSION:2.0
BEGIN:VTIMEZONE
TZID:Europe/London
X-LIC-LOCATION:Europe/London
BEGIN:DAYLIGHT
TZOFFSETFROM:+0000
TZOFFSETTO:+0100
TZNAME:BST
DTSTART:20210121T150000
RRULE:FREQ=YEARLY;BYDAY=-1SU;BYMONTH=3
END:DAYLIGHT
BEGIN:STANDARD
TZOFFSETFROM:+0100
TZOFFSETTO:+0000
TZNAME:GMT
DTSTART:20210121T150000
RRULE:FREQ=YEARLY;BYDAY=-1SU;BYMONTH=10
END:STANDARD
END:VTIMEZONE
METHOD:PUBLISH
BEGIN:VEVENT
SUMMARY; CHARSET=UTF-8 :Turning on a DyME: Incorporating time-use and health datasets into a Dynamic Microsimulation Epidemiological model for COVID-19
UID:exeter_event_10953
URL:http://www.exeter.ac.uk/events/details/?event=10953
DTSTART;VALUE=DATE:20210121T150000
DTEND;VALUE=DATE:20210121T160000
X-MICROSOFT-CDO-ALLDAYEVENT:FALSE
ORGANIZER: MAILTO:
ATTACH: http://www.exeter.ac.uk/events/details/?event=10953
DTSTAMP:20210113T102213
LOCATION:By zoom - details will be sent when you register
DESCRIPTION; CHARSET=UTF-8 :Speakers: 
Professor Gavin Shaddick, Chair of Data Science & Statistics
Professor Karyn Morrissey, European Centre for Environment & Human Health
Dr Fiona Spooner, Research Fellow, IDSAI / ECEHH
Dr Jesse Abrams,  Research Fellow, IDSAI / GSIhttp://www.exeter.ac.uk/events/details/?event=10953
SEQUENCE:0
PRIORITY:5
CLASS:
STATUS:CONFIRMED
TRANSP:TRANSPARENT
X-MICROSOFT-CDO-IMPORTANCE:1
X-Microsoft-CDO-BUSYSTATUS:FREE
X-MICROSOFT-CDO-INSTTYPE:0
X-Microsoft-CDO-INTENDEDSTATUS:FREE
END:VEVENT
END:VCALENDAR