BEGIN:VCALENDAR
PRODID: University of Exeter
VERSION:2.0
BEGIN:VTIMEZONE
TZID:Europe/London
X-LIC-LOCATION:Europe/London
BEGIN:DAYLIGHT
TZOFFSETFROM:+0000
TZOFFSETTO:+0100
TZNAME:BST
DTSTART:20201211T130000
RRULE:FREQ=YEARLY;BYDAY=-1SU;BYMONTH=3
END:DAYLIGHT
BEGIN:STANDARD
TZOFFSETFROM:+0100
TZOFFSETTO:+0000
TZNAME:GMT
DTSTART:20201211T130000
RRULE:FREQ=YEARLY;BYDAY=-1SU;BYMONTH=10
END:STANDARD
END:VTIMEZONE
METHOD:PUBLISH
BEGIN:VEVENT
SUMMARY; CHARSET=UTF-8 :Urban Analytics: Progress and Prospects
UID:exeter_event_10858
URL:http://www.exeter.ac.uk/events/details/?event=10858
DTSTART;VALUE=DATE:20201211T130000
DTEND;VALUE=DATE:20201211T140000
X-MICROSOFT-CDO-ALLDAYEVENT:FALSE
ORGANIZER: MAILTO:
ATTACH: http://www.exeter.ac.uk/events/details/?event=10858
DTSTAMP:20201204T120654
LOCATION:Please register to receive Zoom details
DESCRIPTION; CHARSET=UTF-8 :Mark will introduce the Urban Analytics programme at Turing and discuss the definition and scope of urban analytics, illustrate its importance using some contemporary and topical examples (including Covid), and highlight some of the main opportunities and challenges for the future.http://www.exeter.ac.uk/events/details/?event=10858
SEQUENCE:0
PRIORITY:5
CLASS:
STATUS:CONFIRMED
TRANSP:TRANSPARENT
X-MICROSOFT-CDO-IMPORTANCE:1
X-Microsoft-CDO-BUSYSTATUS:FREE
X-MICROSOFT-CDO-INSTTYPE:0
X-Microsoft-CDO-INTENDEDSTATUS:FREE
END:VEVENT
END:VCALENDAR