BEGIN:VCALENDAR
PRODID: University of Exeter
VERSION:2.0
BEGIN:VTIMEZONE
TZID:Europe/London
X-LIC-LOCATION:Europe/London
BEGIN:DAYLIGHT
TZOFFSETFROM:+0000
TZOFFSETTO:+0100
TZNAME:BST
DTSTART:20201104T160000
RRULE:FREQ=YEARLY;BYDAY=-1SU;BYMONTH=3
END:DAYLIGHT
BEGIN:STANDARD
TZOFFSETFROM:+0100
TZOFFSETTO:+0000
TZNAME:GMT
DTSTART:20201104T160000
RRULE:FREQ=YEARLY;BYDAY=-1SU;BYMONTH=10
END:STANDARD
END:VTIMEZONE
METHOD:PUBLISH
BEGIN:VEVENT
SUMMARY; CHARSET=UTF-8 :Routes Conversation: Migration and Technology: Does digitisation promote or hinder access to justice and rights? with Dr Ana Beduschi (Associate Professor of Law) and Jo Hynes (ESRC funded PhD candidate, Legal geographies of immigration law)
UID:exeter_event_10752
URL:http://www.exeter.ac.uk/events/details/?event=10752
DTSTART;VALUE=DATE:20201104T000000
DTEND;VALUE=DATE:20201105T235900
X-MICROSOFT-CDO-ALLDAYEVENT:TRUE
ORGANIZER: MAILTO:
ATTACH: http://www.exeter.ac.uk/events/details/?event=10752
DTSTAMP:20201023T093155
LOCATION:Teams
DESCRIPTION; CHARSET=UTF-8 :Routes Conversation: Migration and Technology: Does digitisation promote or hinder access to justice and rights? with Dr Ana Beduschi (Associate Professor of Law) and Jo Hynes (ESRC funded PhD candidate, Legal geographies of immigration law

Join online: https://teams.microsoft.com/l/meetup-join/19%3ameeting_MWJjMzJmYTAtODhhNC00NWE4LTlmOWMtYjQyODQ2NDcwZjZh%40thread.v2/0?context=%7b%22Tid%22%3a%22912a5d77-fb98-4eee-af32-1334d8f04a53%22%2c%22Oid%22%3a%226e937dec-e3c4-404e-a24f-6bde3e224f85%22%7dhttp://www.exeter.ac.uk/events/details/?event=10752
SEQUENCE:0
PRIORITY:5
CLASS:
STATUS:CONFIRMED
TRANSP:TRANSPARENT
X-MICROSOFT-CDO-IMPORTANCE:1
X-Microsoft-CDO-BUSYSTATUS:FREE
X-MICROSOFT-CDO-INSTTYPE:0
X-Microsoft-CDO-INTENDEDSTATUS:FREE
END:VEVENT
END:VCALENDAR