BEGIN:VCALENDAR
PRODID: University of Exeter
VERSION:2.0
BEGIN:VTIMEZONE
TZID:Europe/London
X-LIC-LOCATION:Europe/London
BEGIN:DAYLIGHT
TZOFFSETFROM:+0000
TZOFFSETTO:+0100
TZNAME:BST
DTSTART:20201007T160000
RRULE:FREQ=YEARLY;BYDAY=-1SU;BYMONTH=3
END:DAYLIGHT
BEGIN:STANDARD
TZOFFSETFROM:+0100
TZOFFSETTO:+0000
TZNAME:GMT
DTSTART:20201007T160000
RRULE:FREQ=YEARLY;BYDAY=-1SU;BYMONTH=10
END:STANDARD
END:VTIMEZONE
METHOD:PUBLISH
BEGIN:VEVENT
SUMMARY; CHARSET=UTF-8 :Routes conversation: Do States Have the Right to Exclude Immigrants?
UID:exeter_event_10610
URL:http://www.exeter.ac.uk/events/details/?event=10610
DTSTART;VALUE=DATE:20201007T000000
DTEND;VALUE=DATE:20201008T235900
X-MICROSOFT-CDO-ALLDAYEVENT:TRUE
ORGANIZER: MAILTO:
ATTACH: http://www.exeter.ac.uk/events/details/?event=10610
DTSTAMP:20201007T170456
LOCATION:Online
DESCRIPTION; CHARSET=UTF-8 :Routes conversations are monthly meetings where two scholars or activists from different disciplines discuss a migration question from their different perspectives. 

This month: Routes conversation: Do States Have the Right to Exclude Immigrants?

Dr Helena Wray, Associate Professor in Migration Law
Prof. Christopher Bertram, Professor in Social and Political Philosophyhttp://www.exeter.ac.uk/events/details/?event=10610
SEQUENCE:0
PRIORITY:5
CLASS:
STATUS:CONFIRMED
TRANSP:TRANSPARENT
X-MICROSOFT-CDO-IMPORTANCE:1
X-Microsoft-CDO-BUSYSTATUS:FREE
X-MICROSOFT-CDO-INSTTYPE:0
X-Microsoft-CDO-INTENDEDSTATUS:FREE
END:VEVENT
END:VCALENDAR