BEGIN:VCALENDAR
PRODID: University of Exeter
VERSION:2.0
BEGIN:VTIMEZONE
TZID:Europe/London
X-LIC-LOCATION:Europe/London
BEGIN:DAYLIGHT
TZOFFSETFROM:+0000
TZOFFSETTO:+0100
TZNAME:BST
DTSTART:20200923T150000
RRULE:FREQ=YEARLY;BYDAY=-1SU;BYMONTH=3
END:DAYLIGHT
BEGIN:STANDARD
TZOFFSETFROM:+0100
TZOFFSETTO:+0000
TZNAME:GMT
DTSTART:20200923T150000
RRULE:FREQ=YEARLY;BYDAY=-1SU;BYMONTH=10
END:STANDARD
END:VTIMEZONE
METHOD:PUBLISH
BEGIN:VEVENT
SUMMARY; CHARSET=UTF-8 :IDSAI Seminar: Carly Kind, Director of the Ada Lovelace Institute
UID:exeter_event_10394
URL:http://www.exeter.ac.uk/events/details/?event=10394
DTSTART;VALUE=DATE:20200923T150000
DTEND;VALUE=DATE:20200923T160000
X-MICROSOFT-CDO-ALLDAYEVENT:FALSE
ORGANIZER: MAILTO:
ATTACH: http://www.exeter.ac.uk/events/details/?event=10394
DTSTAMP:20200909T130315
LOCATION:Zoom details will be sent to colleagues who register for the seminar
DESCRIPTION; CHARSET=UTF-8 :Carly Kind leads the delivery of the Ada Lovelace Instituteâ€™s ambitious agenda to promote informed public understanding of the impact of AI and data-driven technologies on different groups in society. She was appointed Director of the Institute in July 2019.  http://www.exeter.ac.uk/events/details/?event=10394
SEQUENCE:0
PRIORITY:5
CLASS:
STATUS:CONFIRMED
TRANSP:TRANSPARENT
X-MICROSOFT-CDO-IMPORTANCE:1
X-Microsoft-CDO-BUSYSTATUS:FREE
X-MICROSOFT-CDO-INSTTYPE:0
X-Microsoft-CDO-INTENDEDSTATUS:FREE
END:VEVENT
END:VCALENDAR